BEGIN:VCALENDAR
VERSION:2.0
PRODID:-//UM//UM*Events//EN
CALSCALE:GREGORIAN
BEGIN:VTIMEZONE
TZID:America/Detroit
TZURL:http://tzurl.org/zoneinfo/America/Detroit
X-LIC-LOCATION:America/Detroit
BEGIN:DAYLIGHT
TZOFFSETFROM:-0500
TZOFFSETTO:-0400
TZNAME:EDT
DTSTART:20070311T020000
RRULE:FREQ=YEARLY;BYMONTH=3;BYDAY=2SU
END:DAYLIGHT
BEGIN:STANDARD
TZOFFSETFROM:-0400
TZOFFSETTO:-0500
TZNAME:EST
DTSTART:20071104T020000
RRULE:FREQ=YEARLY;BYMONTH=11;BYDAY=1SU
END:STANDARD
END:VTIMEZONE
BEGIN:VEVENT
DTSTAMP:20230105T152553
DTSTART;TZID=America/Detroit:20230420T180000
DTEND;TZID=America/Detroit:20230420T190000
SUMMARY:Livestream / Virtual:RC Virtual Q&A for Prospective Students
DESCRIPTION:Prospective students are invited to join our virtual events to learn more about the Residential College. Join current students\, and the RC Admissions Director\, to learn more about the RC experience and why it might be right for you!\n\nAll prospective students\, admitted students\, and those still waiting to hear are welcome to attend. \n\nTuesday\, February 14\n4:00 PM -  5:00 PM EDT\n\nThursday\, February 23\n5:00 PM - 6:00 PM EDT\n\nWednesday\, March 8\n6:00 PM - 7:00 PM EDT\n\nThursday\, March 23\n4:00 PM - 5:00 PM EDT\n\nThursday\, April 6\n5:00 PM - 6:00 PM EDT\n\nThursday\, April 20\n6:00 PM - 7:00 PM EDT\n\nRegister: lsa.umich.edu/rc/prospective-students/virtual-events
UID:102884-21805289@events.umich.edu
URL:https://events.umich.edu/event/102884
CLASS:PUBLIC
STATUS:CONFIRMED
CATEGORIES:Admissions,free,Prospective Undergraduate Students,residential college,Undergraduate
LOCATION:Off Campus Location
CONTACT:
END:VEVENT
END:VCALENDAR