BEGIN:VCALENDAR
VERSION:2.0
PRODID:-//UM//UM*Events//EN
CALSCALE:GREGORIAN
BEGIN:VTIMEZONE
TZID:America/Detroit
TZURL:http://tzurl.org/zoneinfo/America/Detroit
X-LIC-LOCATION:America/Detroit
BEGIN:DAYLIGHT
TZOFFSETFROM:-0500
TZOFFSETTO:-0400
TZNAME:EDT
DTSTART:20070311T020000
RRULE:FREQ=YEARLY;BYMONTH=3;BYDAY=2SU
END:DAYLIGHT
BEGIN:STANDARD
TZOFFSETFROM:-0400
TZOFFSETTO:-0500
TZNAME:EST
DTSTART:20071104T020000
RRULE:FREQ=YEARLY;BYMONTH=11;BYDAY=1SU
END:STANDARD
END:VTIMEZONE
BEGIN:VEVENT
DTSTAMP:20230308T233557
DTSTART;TZID=America/Detroit:20230325T150000
DTEND;TZID=America/Detroit:20230325T163000
SUMMARY:Lecture / Discussion:Where Do We Go From Here? People of Action Coalition Town Hall Meeting
DESCRIPTION:Here's your chance to find out more about the changes that are being proposed surrounding issues of mass incarceration in our state and resources on what you can do to make a difference.\n\nImmediately following the public tour of the *27th Annual Exhibition of Artists in Michigan Prisons*\, we will be continuing the conversation with the People of Action Coalition to discuss current legislative & policy work that is taking place in the state of Michigan. This will end with an engaging Q & A from the audience. \n\n*The University of Michigan College of Literature\, Science and the Arts (LSA) greatly values inclusion and access for all. We are pleased to provide additional reasonable accommodations to enable your full participation in this event. Please contact Sarah Unrath at saraheve@umich or 734.615.5643 if you would like to request disability accommodations or have any questions or concerns. We ask that you provide advance notice to ensure sufficient time to meet requested accommodations.*
UID:104951-21810508@events.umich.edu
URL:https://events.umich.edu/event/104951
CLASS:PUBLIC
STATUS:CONFIRMED
CATEGORIES:27th Annual Exhibition,Activism,Ann Arbor,Art,civil rights,Community,community activism,Community Engagement,community gathering,Community Organzing,Crime And Justice,Criminal Justice,Discussion,Diversity,Diversity Equity and Inclusion,Equity,Exhibition,Free,human dignity,human rights,Incarceration,Justice,mass incarceration,north campus,Politics,Poverty,poverty and inequality,prison issues,public policy,Social Impact,social justice,Social Movement,Social Work
LOCATION:Chrysler Center - Chesebrough Auditorium
CONTACT:
END:VEVENT
END:VCALENDAR