BEGIN:VCALENDAR
VERSION:2.0
PRODID:-//UM//UM*Events//EN
CALSCALE:GREGORIAN
BEGIN:VTIMEZONE
TZID:America/Detroit
TZURL:http://tzurl.org/zoneinfo/America/Detroit
X-LIC-LOCATION:America/Detroit
BEGIN:DAYLIGHT
TZOFFSETFROM:-0500
TZOFFSETTO:-0400
TZNAME:EDT
DTSTART:20070311T020000
RRULE:FREQ=YEARLY;BYMONTH=3;BYDAY=2SU
END:DAYLIGHT
BEGIN:STANDARD
TZOFFSETFROM:-0400
TZOFFSETTO:-0500
TZNAME:EST
DTSTART:20071104T020000
RRULE:FREQ=YEARLY;BYMONTH=11;BYDAY=1SU
END:STANDARD
END:VTIMEZONE
BEGIN:VEVENT
DTSTAMP:20260316T102426
DTSTART;TZID=America/Detroit:20250319T170000
DTEND;TZID=America/Detroit:20250319T183000
SUMMARY:Presentation:Psych/BCN Exploration Event for Prospective and New Majors
DESCRIPTION:At this Psych/BCN exploration event\, the Psychology Department Peer Advisors will present an overview of the Psych and BCN majors\, transfer credit resources\, career and grad school pathways\, and more! The Peer Advisors will also offer advice on how to make the most of your Psych/BCN major at UM\, such as engaging with research opportunities\, internships\, and student orgs. There will be time for Q&A as well. FREE PIZZA!!!! Open to all students!\n\nThe event will also be recorded and shared afterwards with students who registered on Sessions. \n\nRSVP HERE: https://myumi.ch/Rmxpm
UID:105206-21868592@events.umich.edu
URL:https://events.umich.edu/event/105206
CLASS:PUBLIC
STATUS:CONFIRMED
CATEGORIES:Biopsychology\, Cognition\, And Neuroscience (Bcn),Graduate School,Majors,Prospective Undergraduate Students,Psychology,Research
LOCATION:East Hall - 4448
CONTACT:
END:VEVENT
END:VCALENDAR