BEGIN:VCALENDAR
VERSION:2.0
PRODID:-//UM//UM*Events//EN
CALSCALE:GREGORIAN
BEGIN:VTIMEZONE
TZID:America/Detroit
TZURL:http://tzurl.org/zoneinfo/America/Detroit
X-LIC-LOCATION:America/Detroit
BEGIN:DAYLIGHT
TZOFFSETFROM:-0500
TZOFFSETTO:-0400
TZNAME:EDT
DTSTART:20070311T020000
RRULE:FREQ=YEARLY;BYMONTH=3;BYDAY=2SU
END:DAYLIGHT
BEGIN:STANDARD
TZOFFSETFROM:-0400
TZOFFSETTO:-0500
TZNAME:EST
DTSTART:20071104T020000
RRULE:FREQ=YEARLY;BYMONTH=11;BYDAY=1SU
END:STANDARD
END:VTIMEZONE
BEGIN:VEVENT
DTSTAMP:20231109T114719
DTSTART;TZID=America/Detroit:20231114T150000
DTEND;TZID=America/Detroit:20231114T170000
SUMMARY:Lecture / Discussion:Palestine & Free Speech: Activism\, Advocacy\, and Law
DESCRIPTION:Join the University of Michigan Global Islamic Studies Center (GISC) on November 14th at 3:00 PM ET for a roundtable panel discussion on \"Palestine & Free Speech: Activism\, Advocacy\, and Law.\" This panel features Washtenaw County Prosecutor Eli Savit\, U-M alum and Palestinian American Attorney Fadel M. Nabilsi\, and Council on American-Islamic Relations-Michigan (CAIR-MI) Staff Attorney Amy V. Doukoure\, and focuses on free speech\, student activism\, and the law on campus and beyond.\n\nPanelists will discuss rights to engage in free speech in the United States\, religious and racial discrimination in the context of advocacy\, and employment issues for students and professionals involved in activism. We will also hear from speakers on their local\, national\, and international legal work that involves Muslim\, Arab\, and Palestinian American citizens. A moderated audience Q&A will follow the panel.\n\nRSVP: http://bit.ly/PalFreeSpeech\n\nThis event is brought to you by the Global Islamic Studies Center (GISC) at the University of Michigan-Ann Arbor.\n   \n   Want to hear about similar events from U-M Islamic Studies? Sign up for the GISC Newsletter here! We send out a monthly newsletter in collaboration with the Center for Middle Eastern and North African Studies\, and the Digital Islamic Studies Curriculum.\n   \n   Join our Email newsletter: https://myumi.ch/nbW83\n   \n   Islamic Studies Minor: https://myumi.ch/R5YnQ\n   Email islamicstudies@umich.edu\n   \n   Are you a student looking for funding?\n   Graduate Funding Opportunities: https://bit.ly/GISCGradFunding\n   Undergrad Funding Opportunities: https://bit.ly/GISCUndergradFunding\n   \n   If you are a person with a disability who requires an accommodation to attend this event\, please reach out to us at islamicstudies@umich.edu\, we'd be happy to help. As you may know\, some accommodations may require more time for the university to arrange\, so the sooner you can reach out to us the better.
UID:114974-21833884@events.umich.edu
URL:https://events.umich.edu/event/114974
CLASS:PUBLIC
STATUS:CONFIRMED
CATEGORIES:Activism,Discussion,Global Islamic Studies,Lecture,Virtual
LOCATION:Off Campus Location
CONTACT:
END:VEVENT
END:VCALENDAR