BEGIN:VCALENDAR
VERSION:2.0
PRODID:-//UM//UM*Events//EN
CALSCALE:GREGORIAN
BEGIN:VTIMEZONE
TZID:America/Detroit
TZURL:http://tzurl.org/zoneinfo/America/Detroit
X-LIC-LOCATION:America/Detroit
BEGIN:DAYLIGHT
TZOFFSETFROM:-0500
TZOFFSETTO:-0400
TZNAME:EDT
DTSTART:20070311T020000
RRULE:FREQ=YEARLY;BYMONTH=3;BYDAY=2SU
END:DAYLIGHT
BEGIN:STANDARD
TZOFFSETFROM:-0400
TZOFFSETTO:-0500
TZNAME:EST
DTSTART:20071104T020000
RRULE:FREQ=YEARLY;BYMONTH=11;BYDAY=1SU
END:STANDARD
END:VTIMEZONE
BEGIN:VEVENT
DTSTAMP:20240129T070706
DTSTART;TZID=America/Detroit:20240208T000000
DTEND;TZID=America/Detroit:20240208T235900
SUMMARY:Social / Informal Gathering:LSA@Play: Surprise Pop-Up
DESCRIPTION:You just might be in the right place at the right time! During the week of February 5\, LSA staff will pop-up with treats and swag somewhere on central campus. Subscribe to our text updates for an early notification with time and location (https://app2.simpletexting.com/join/joinWebForm?webFormId=62ea661e1046c84c80ed9f5c)*\n\nCosponsored with the Science Learning Center\n__________\nLSA@Play is a series of events to welcome and support LSA students. Gatherings and activities offer opportunities for students to prioritize self-care\, inclusivity\, and community. Plus\, get free food and LSA swag!\n\nVisit the LSA@Play webpage: lsa.umich.edu/play for more details\, sign-up to receive text/email updates\, and check for additional events being added soon!\n\nIf you have an accessibility need you feel may not be automatically met at an event\, please email lsaatplay@umich.edu. Advance notice is necessary for some accommodations to be fully implemented\, but we will always attempt to remove those barriers.\n\n* While supplies last. One swag item per student\, must be present with MCard to receive.
UID:117960-21840236@events.umich.edu
URL:https://events.umich.edu/event/117960
CLASS:PUBLIC
STATUS:CONFIRMED
CATEGORIES:Free,Science
LOCATION:
CONTACT:
END:VEVENT
END:VCALENDAR