BEGIN:VCALENDAR
VERSION:2.0
PRODID:-//UM//UM*Events//EN
CALSCALE:GREGORIAN
BEGIN:VTIMEZONE
TZID:America/Detroit
TZURL:http://tzurl.org/zoneinfo/America/Detroit
X-LIC-LOCATION:America/Detroit
BEGIN:DAYLIGHT
TZOFFSETFROM:-0500
TZOFFSETTO:-0400
TZNAME:EDT
DTSTART:20070311T020000
RRULE:FREQ=YEARLY;BYMONTH=3;BYDAY=2SU
END:DAYLIGHT
BEGIN:STANDARD
TZOFFSETFROM:-0400
TZOFFSETTO:-0500
TZNAME:EST
DTSTART:20071104T020000
RRULE:FREQ=YEARLY;BYMONTH=11;BYDAY=1SU
END:STANDARD
END:VTIMEZONE
BEGIN:VEVENT
DTSTAMP:20241007T155438
DTSTART;TZID=America/Detroit:20240719T140000
DTEND;TZID=America/Detroit:20240719T150000
SUMMARY:Livestream / Virtual:Newnan Info Session for LSA + Ross School of Business MDDP (Joint Degree)
DESCRIPTION:This information session will detail the application requirements\, general structure and considerations of a MDDP (Joint Degree) between the Colleges of LSA and the Ross School of Business. The session is intended for current Ross or Newnan-advised LSA students interested in a second Bachelor’s Degree alongside their current degree program with these unique schools. This session is mandatory for those seeking to complete the Undergraduate Dual Degree Approval form. Individual audits of progress and the signing of documents will not take place during this group meeting.
UID:121727-21847181@events.umich.edu
URL:https://events.umich.edu/event/121727
CLASS:PUBLIC
STATUS:CONFIRMED
CATEGORIES:Advising,Applications,Newnan
LOCATION:Off Campus Location
CONTACT:
END:VEVENT
END:VCALENDAR