BEGIN:VCALENDAR
VERSION:2.0
PRODID:-//UM//UM*Events//EN
CALSCALE:GREGORIAN
BEGIN:VTIMEZONE
TZID:America/Detroit
TZURL:http://tzurl.org/zoneinfo/America/Detroit
X-LIC-LOCATION:America/Detroit
BEGIN:DAYLIGHT
TZOFFSETFROM:-0500
TZOFFSETTO:-0400
TZNAME:EDT
DTSTART:20070311T020000
RRULE:FREQ=YEARLY;BYMONTH=3;BYDAY=2SU
END:DAYLIGHT
BEGIN:STANDARD
TZOFFSETFROM:-0400
TZOFFSETTO:-0500
TZNAME:EST
DTSTART:20071104T020000
RRULE:FREQ=YEARLY;BYMONTH=11;BYDAY=1SU
END:STANDARD
END:VTIMEZONE
BEGIN:VEVENT
DTSTAMP:20240827T153656
DTSTART;TZID=America/Detroit:20240926T160000
DTEND;TZID=America/Detroit:20240926T180000
SUMMARY:Lecture / Discussion:EIHS Lecture: The Ethics of Blessed Entertainment: The Visual and Affective Fundraising Strategies of German Humanitarianism on Behalf of Ottoman Armenians (1890-1930)
DESCRIPTION:“Should it be so that we simply get no more money if we do not set the mental engines of both the religious and sensation in motion\, should it really be so? What an alarming\, fatal pair of crutches\, which is here so inseparable religion and sensation!\"\n\nIn two sentences\, Paul Schütz\, a member of the Board of Trustees of the Lepsius Deutsche Orient Mission in Berlin\, summarizes and questions the primary humanitarian fundraising strategies of German humanitarians on behalf of Ottoman Armenians starting in the 1890s\, namely the exploitation of the public’s religious sensibilities and a common taste for sensationalist stories and images. Examining the textual and visual fundraising material\, the talk highlights the link between religious obligations and popular tastes and habits\, illustrating how German humanitarians navigated state politics\, public opinion\, and the desires of a pietist counter-public to mobilize empathy and aid for Ottoman Armenians. The talk explores the intersection of media\, performance\, and humanitarianism by emphasizing the importance of visual and affective strategies in humanitarian work\, the ethical considerations involved\, and the historical evolution of these practices.\n\nMelanie Tanielian is an Associate Professor in the History Department at the University of Michigan\, Ann Arbor. Her monograph The Charity of War: Famine\, Humanitarian Aid and World War I in the Middle East explores the political of provisioning in ameliorating wartime famine on the Ottoman home front. A historian of war and society\, Tanielian’s research interests include the social and cultural history of WWI in the Middle East and the history of modern humanitarianism. She is currently working on a new book\, Fantasies of Humanitarianism/Humanitarian Fantasies: Germany and the Eastern Mediterranean\, 1896-1933 under contract with Cambridge University Press.\n\nThis event presented by the Eisenberg Institute for Historical Studies. It is made possible in part by a generous contribution from Kenneth and Frances Aftel Eisenberg.
UID:122456-21849222@events.umich.edu
URL:https://events.umich.edu/event/122456
CLASS:PUBLIC
STATUS:CONFIRMED
CATEGORIES:History,Humanities,Interdisciplinary
LOCATION:Tisch Hall - 1014
CONTACT:
END:VEVENT
END:VCALENDAR