BEGIN:VCALENDAR
VERSION:2.0
PRODID:-//UM//UM*Events//EN
CALSCALE:GREGORIAN
BEGIN:VTIMEZONE
TZID:America/Detroit
TZURL:http://tzurl.org/zoneinfo/America/Detroit
X-LIC-LOCATION:America/Detroit
BEGIN:DAYLIGHT
TZOFFSETFROM:-0500
TZOFFSETTO:-0400
TZNAME:EDT
DTSTART:20070311T020000
RRULE:FREQ=YEARLY;BYMONTH=3;BYDAY=2SU
END:DAYLIGHT
BEGIN:STANDARD
TZOFFSETFROM:-0400
TZOFFSETTO:-0500
TZNAME:EST
DTSTART:20071104T020000
RRULE:FREQ=YEARLY;BYMONTH=11;BYDAY=1SU
END:STANDARD
END:VTIMEZONE
BEGIN:VEVENT
DTSTAMP:20241001T120726
DTSTART;TZID=America/Detroit:20241023T120000
DTEND;TZID=America/Detroit:20241023T130000
SUMMARY:Lecture / Discussion:HET Brown Bag Seminar | Two Exact Results on 2d CFTs
DESCRIPTION:As I will discuss in my Ta-You Wu Lecture\, exact statements about conformal field theories can be used to identify and derive constraints on quantum gravity theories. In this technical talk\, I will present a couple of new results on conformal field theory in two dimensions motivated by gravitational theories in three dimensions.
UID:124231-21852776@events.umich.edu
URL:https://events.umich.edu/event/124231
CLASS:PUBLIC
STATUS:CONFIRMED
CATEGORIES:brown bag,Brown Bag Seminar,Physics,Science
LOCATION:Randall Laboratory - 3481
CONTACT:
END:VEVENT
END:VCALENDAR