BEGIN:VCALENDAR
VERSION:2.0
PRODID:-//UM//UM*Events//EN
CALSCALE:GREGORIAN
BEGIN:VTIMEZONE
TZID:America/Detroit
TZURL:http://tzurl.org/zoneinfo/America/Detroit
X-LIC-LOCATION:America/Detroit
BEGIN:DAYLIGHT
TZOFFSETFROM:-0500
TZOFFSETTO:-0400
TZNAME:EDT
DTSTART:20070311T020000
RRULE:FREQ=YEARLY;BYMONTH=3;BYDAY=2SU
END:DAYLIGHT
BEGIN:STANDARD
TZOFFSETFROM:-0400
TZOFFSETTO:-0500
TZNAME:EST
DTSTART:20071104T020000
RRULE:FREQ=YEARLY;BYMONTH=11;BYDAY=1SU
END:STANDARD
END:VTIMEZONE
BEGIN:VEVENT
DTSTAMP:20240909T110031
DTSTART;TZID=America/Detroit:20240913T150000
DTEND;TZID=America/Detroit:20240913T160000
SUMMARY:Lecture / Discussion:HET Seminar | New (Non-)Supersymmetric Phases in N=4 SYM
DESCRIPTION:In this work\, we extend our current understanding of the phase diagram of N=4 SYM at any given set of charges (Microcanonical Ensemble) by proposing various new phases. These new phases correspond to hairy black hole solutions in the bulk gravitational theory and are easier to construct and analyze due to the emergence of a \"Non-interacting\" picture. The new phases continue to exist even in the supersymmetric limit and contribute to an extra parameter (amount of \"hair\") worth of solutions. The presence of new supersymmetric solutions predicts a phase transition in the superconformal index of N=4 SYM.
UID:124940-21854102@events.umich.edu
URL:https://events.umich.edu/event/124940
CLASS:PUBLIC
STATUS:CONFIRMED
CATEGORIES:High Energy Theory Seminar,Physics
LOCATION:West Hall - 340
CONTACT:
END:VEVENT
END:VCALENDAR