BEGIN:VCALENDAR
VERSION:2.0
PRODID:-//UM//UM*Events//EN
CALSCALE:GREGORIAN
BEGIN:VTIMEZONE
TZID:America/Detroit
TZURL:http://tzurl.org/zoneinfo/America/Detroit
X-LIC-LOCATION:America/Detroit
BEGIN:DAYLIGHT
TZOFFSETFROM:-0500
TZOFFSETTO:-0400
TZNAME:EDT
DTSTART:20070311T020000
RRULE:FREQ=YEARLY;BYMONTH=3;BYDAY=2SU
END:DAYLIGHT
BEGIN:STANDARD
TZOFFSETFROM:-0400
TZOFFSETTO:-0500
TZNAME:EST
DTSTART:20071104T020000
RRULE:FREQ=YEARLY;BYMONTH=11;BYDAY=1SU
END:STANDARD
END:VTIMEZONE
BEGIN:VEVENT
DTSTAMP:20241112T111531
DTSTART;TZID=America/Detroit:20241203T160000
DTEND;TZID=America/Detroit:20241203T170000
SUMMARY:Workshop / Seminar:Colloquium Seminar: Chaotic spectral behavior in random graphs
DESCRIPTION:General heuristics suggest that quantum chaotic systems (such as manifolds with ergodic geodesic flow) exhibit the spectral statistics of random matrices. This behavior extends to the discrete setting\, where the spectral properties of operators have important applications to statistical physics\, computer science\, and theoretical statistics.\n\nIn this talk\, I will provide an overview of recent results demonstrating this chaotic behavior\, with a focus on proving that for the adjacency operator of a random regular graph\, all eigenvalues exhibit optimally small fluctuations. Throughout the talk\, I will introduce key techniques used in these proofs and highlight the rich connections between continuous and discrete settings.
UID:128739-21861575@events.umich.edu
URL:https://events.umich.edu/event/128739
CLASS:PUBLIC
STATUS:CONFIRMED
CATEGORIES:Mathematics
LOCATION:East Hall - 1360
CONTACT:
END:VEVENT
END:VCALENDAR