BEGIN:VCALENDAR
VERSION:2.0
PRODID:-//UM//UM*Events//EN
CALSCALE:GREGORIAN
BEGIN:VTIMEZONE
TZID:America/Detroit
TZURL:http://tzurl.org/zoneinfo/America/Detroit
X-LIC-LOCATION:America/Detroit
BEGIN:DAYLIGHT
TZOFFSETFROM:-0500
TZOFFSETTO:-0400
TZNAME:EDT
DTSTART:20070311T020000
RRULE:FREQ=YEARLY;BYMONTH=3;BYDAY=2SU
END:DAYLIGHT
BEGIN:STANDARD
TZOFFSETFROM:-0400
TZOFFSETTO:-0500
TZNAME:EST
DTSTART:20071104T020000
RRULE:FREQ=YEARLY;BYMONTH=11;BYDAY=1SU
END:STANDARD
END:VTIMEZONE
BEGIN:VEVENT
DTSTAMP:20241202T094843
DTSTART;TZID=America/Detroit:20250212T190000
DTEND;TZID=America/Detroit:20250212T210000
SUMMARY:Film Screening:CSAS South Asian Film Festival | Laapataa Ladies
DESCRIPTION:In this year's official entry to the Oscars for India\, two brides' lives take unexpected turns when they accidentally swap places on a crowded train in this funny and satirical drama from director Kiran Rao.\n   \n   Film trailer: https://www.youtube.com/watch?v=tF1JN2pT_sM\n   \n   For tickets: https://marquee-arts.org/event-page/tickets/?showingId=907398\n   \n   This screening is free and open to the public.\n   \n   *Made possible with the generous support of the Title VI grant from the U.S. Department of Education.*
UID:129537-21863573@events.umich.edu
URL:https://events.umich.edu/event/129537
CLASS:PUBLIC
STATUS:CONFIRMED
CATEGORIES:Asian Languages And Cultures,Film,India,South Asia
LOCATION:Off Campus Location
CONTACT:
END:VEVENT
END:VCALENDAR