BEGIN:VCALENDAR
VERSION:2.0
PRODID:-//UM//UM*Events//EN
CALSCALE:GREGORIAN
BEGIN:VTIMEZONE
TZID:America/Detroit
TZURL:http://tzurl.org/zoneinfo/America/Detroit
X-LIC-LOCATION:America/Detroit
BEGIN:DAYLIGHT
TZOFFSETFROM:-0500
TZOFFSETTO:-0400
TZNAME:EDT
DTSTART:20070311T020000
RRULE:FREQ=YEARLY;BYMONTH=3;BYDAY=2SU
END:DAYLIGHT
BEGIN:STANDARD
TZOFFSETFROM:-0400
TZOFFSETTO:-0500
TZNAME:EST
DTSTART:20071104T020000
RRULE:FREQ=YEARLY;BYMONTH=11;BYDAY=1SU
END:STANDARD
END:VTIMEZONE
BEGIN:VEVENT
DTSTAMP:20250225T152913
DTSTART;TZID=America/Detroit:20250317T163000
DTEND;TZID=America/Detroit:20250317T190000
SUMMARY:Lecture / Discussion:The Intelligent Hand\, from Hellenistic Epigram to the Hoby Cups
DESCRIPTION:This lecture takes its lead from the artist who signed his name on the silver cups from Hoby (now in the National Museum of Denmark) as ‘Cheirisophos’\, meaning ‘Wise Hand’. Rather than just taking the name as a playful pseudonym\, it explores how the artist’s self-identification can be read alongside the scenes of diplomacy\, supplication\, and healing on the cups themselves\, which are also examples of intelligent acts of touch. In their allusions to Greek epic and drama\, these scenes also draw on a long tradition in Greco-Roman culture exploring the entangled relationship between hand and mind. As a form of enactive or extended cognition\, the ‘wisdom of hands’ is also key to Hellenistic Greek epigrams on works of art\, especially those on bronze statues by the third century BCE poet Posidippus. The notion of the ‘intelligent hand’\, emerging from the craft of metalwork\, challenges the instrumentalist assumptions of Aristotle’s claim that the hand is simply the ‘tool of tools’\, asserting a form of haptic wisdom that is vital to the transmission of Greek culture\, even beyond the edges of the Roman Empire.\n\nVerity Platt works at the intersection between Greco-Roman art\, literature\, and philosophy. She is cross-appointed in the departments of Classics and History of Art at Cornell University\, where she also co-curates the university’s cast collection and is currently director of the Humanities Scholars Program. This lecture draws from her forthcoming book\, Epistemic Objects: Making and Mediating Classical Art and Text (Oxford University Press).
UID:133150-21872444@events.umich.edu
URL:https://events.umich.edu/event/133150
CLASS:PUBLIC
STATUS:CONFIRMED
CATEGORIES:Archaeology,Art History,Classical Studies,history of art
LOCATION:Michigan League - Hussey Room
CONTACT:
END:VEVENT
END:VCALENDAR