BEGIN:VCALENDAR
VERSION:2.0
PRODID:-//UM//UM*Events//EN
CALSCALE:GREGORIAN
BEGIN:VTIMEZONE
TZID:America/Detroit
TZURL:http://tzurl.org/zoneinfo/America/Detroit
X-LIC-LOCATION:America/Detroit
BEGIN:DAYLIGHT
TZOFFSETFROM:-0500
TZOFFSETTO:-0400
TZNAME:EDT
DTSTART:20070311T020000
RRULE:FREQ=YEARLY;BYMONTH=3;BYDAY=2SU
END:DAYLIGHT
BEGIN:STANDARD
TZOFFSETFROM:-0400
TZOFFSETTO:-0500
TZNAME:EST
DTSTART:20071104T020000
RRULE:FREQ=YEARLY;BYMONTH=11;BYDAY=1SU
END:STANDARD
END:VTIMEZONE
BEGIN:VEVENT
DTSTAMP:20250305T080803
DTSTART;TZID=America/Detroit:20250410T120000
DTEND;TZID=America/Detroit:20250410T140000
SUMMARY:Other:Study Abroad in Granada - Winter 2026
DESCRIPTION:Join CGIS Advisor\, Juliana Mesa\, to learn more about the CGIS: Advanced Spanish and Culture in Granada (Spain) program\, the application process\, the academics\, and life in Granada.\nThis Winter 2026 intensive Michigan program combines classes with a U-M faculty and local Spanish professors at a local study abroad center. Students have the option to take a class at the Universidad de Granada or partake in a for-credit internship.\nThe Department of Romance Languages and Literatures has pre-approved this program for fulfilling Spanish major/minor requirements while abroad.\nPlease RSVP here: https://myumi.ch/A192G
UID:133416-21873080@events.umich.edu
URL:https://events.umich.edu/event/133416
CLASS:PUBLIC
STATUS:CONFIRMED
CATEGORIES:Abroad,Applications,Culture,Europe,global engagement,global opportunities,Information Session,intercultural,international,International Education,internships,Language,Romance Languages And Literatures,Spanish,Spanish Studies,Undergraduate Students
LOCATION:Modern Languages Building - RLL Commons (MLB 4314)
CONTACT:
END:VEVENT
END:VCALENDAR