BEGIN:VCALENDAR
VERSION:2.0
PRODID:-//UM//UM*Events//EN
CALSCALE:GREGORIAN
BEGIN:VTIMEZONE
TZID:America/Detroit
TZURL:http://tzurl.org/zoneinfo/America/Detroit
X-LIC-LOCATION:America/Detroit
BEGIN:DAYLIGHT
TZOFFSETFROM:-0500
TZOFFSETTO:-0400
TZNAME:EDT
DTSTART:20070311T020000
RRULE:FREQ=YEARLY;BYMONTH=3;BYDAY=2SU
END:DAYLIGHT
BEGIN:STANDARD
TZOFFSETFROM:-0400
TZOFFSETTO:-0500
TZNAME:EST
DTSTART:20071104T020000
RRULE:FREQ=YEARLY;BYMONTH=11;BYDAY=1SU
END:STANDARD
END:VTIMEZONE
BEGIN:VEVENT
DTSTAMP:20250523T103800
DTSTART;TZID=America/Detroit:20260430T173000
DTEND;TZID=America/Detroit:20260430T190000
SUMMARY:Ceremony / Service:2026 Undergraduate English Commencement Ceremony
DESCRIPTION:Details will be posted on our website in February 2026.
UID:135819-21877301@events.umich.edu
URL:https://events.umich.edu/event/135819
CLASS:PUBLIC
STATUS:CONFIRMED
CATEGORIES:Commencement,English Language And Literature,Graduation,Undergraduate
LOCATION:Michigan League - Ballroom
CONTACT:
END:VEVENT
END:VCALENDAR