BEGIN:VCALENDAR
VERSION:2.0
PRODID:-//UM//UM*Events//EN
CALSCALE:GREGORIAN
BEGIN:VTIMEZONE
TZID:America/Detroit
TZURL:http://tzurl.org/zoneinfo/America/Detroit
X-LIC-LOCATION:America/Detroit
BEGIN:DAYLIGHT
TZOFFSETFROM:-0500
TZOFFSETTO:-0400
TZNAME:EDT
DTSTART:20070311T020000
RRULE:FREQ=YEARLY;BYMONTH=3;BYDAY=2SU
END:DAYLIGHT
BEGIN:STANDARD
TZOFFSETFROM:-0400
TZOFFSETTO:-0500
TZNAME:EST
DTSTART:20071104T020000
RRULE:FREQ=YEARLY;BYMONTH=11;BYDAY=1SU
END:STANDARD
END:VTIMEZONE
BEGIN:VEVENT
DTSTAMP:20250815T125113
DTSTART;TZID=America/Detroit:20251205T120000
DTEND;TZID=America/Detroit:20251205T130000
SUMMARY:Lecture / Discussion:Friday Lecture Series | How Ethnic Rebellion Begins: Theory and Evidence from Myanmar
DESCRIPTION:Since independence\, most of the ethnic minority groups in Myanmar—though not all—have rebelled against the central government\, making it home to the most simultaneous and longest ongoing armed conflict in the world. In this talk\, Jangai Jap tracks the origins of armed ethnic organizations in Myanmar and argue that political exclusion—a primary grievance widely thought to motivate ethnic rebellion—played a rather minimal role in the onset of ethnic rebellions. Instead\, what distinguishes ethnic groups in rebellion from other ethnic minority groups is the claim of having an ethnic “homeland” within Myanmar. Individuals from such ethnic groups form nascent armed groups\, which are then fostered and supported by more established ethnic armed organizations. Jap illustrates this dynamic through the role of the Karen National Union and the Kachin Independence Organization in the proliferation of robust ethnic armed organizations in Myanmar.\n   \n   Jangai Jap is an assistant professor in the Department of International Affairs at the University of Georgia’s School of Public and International Affairs. She researches ethnic politics\, nationalism\, minority-state relations\, and Burma/Myanmar politics. Her ongoing work examines interethnic relations\, bureaucratic experiences\, and ethnic rebellion. Previously\, she was an early career provost fellow in the Department of Government at the University of Texas at Austin and a postdoctoral fellow in the Politics of Race and Ethnicity Lab. She holds a Ph.D. in political science from George Washington University and a B.A. in Judaic studies and political science from Yale University.\n\nIf there is anything we can do to make this event accessible to you\, please contact us at valdezjo@umich.edu. Please be aware that advance notice is necessary as some accommodations may require more time for the university to arrange.
UID:137646-21880481@events.umich.edu
URL:https://events.umich.edu/event/137646
CLASS:PUBLIC
STATUS:CONFIRMED
CATEGORIES:Asian Languages And Cultures,myanmar,Religion,Southeast Asia
LOCATION:Weiser Hall - Room 555
CONTACT:
END:VEVENT
END:VCALENDAR