BEGIN:VCALENDAR
VERSION:2.0
PRODID:-//UM//UM*Events//EN
CALSCALE:GREGORIAN
BEGIN:VTIMEZONE
TZID:America/Detroit
TZURL:http://tzurl.org/zoneinfo/America/Detroit
X-LIC-LOCATION:America/Detroit
BEGIN:DAYLIGHT
TZOFFSETFROM:-0500
TZOFFSETTO:-0400
TZNAME:EDT
DTSTART:20070311T020000
RRULE:FREQ=YEARLY;BYMONTH=3;BYDAY=2SU
END:DAYLIGHT
BEGIN:STANDARD
TZOFFSETFROM:-0400
TZOFFSETTO:-0500
TZNAME:EST
DTSTART:20071104T020000
RRULE:FREQ=YEARLY;BYMONTH=11;BYDAY=1SU
END:STANDARD
END:VTIMEZONE
BEGIN:VEVENT
DTSTAMP:20251024T110210
DTSTART;TZID=America/Detroit:20251119T180000
DTEND;TZID=America/Detroit:20251119T193000
SUMMARY:Lecture / Discussion:Mind Matters Speaker Series
DESCRIPTION:The Mind Matters speaker series bridges the gap between your coursework and the real-world impact of Cognitive Science. Join us to hear leading academics reveal how the fields of linguistics\, psychology\, neuroscience\, computer science\, and philosophy intersect\, offering both practical insights and ethical discussions relevant to today’s rapidly changing society!\n\nOur first speaker is Dr. Huteng Dai. He is an assistant professor of computational linguistics and phonology. Dr. Dai is affiliated with the U‑M AI Lab\, Department of Linguistics\, the Michigan Center for Applied and Interdisciplinary Mathematics\, and the Weinberg Institute of Cognitive Science. Dr. Dai's research focuses on understanding how humans and machines learn languages\, especially sound patterns\, from noisy\, real-world data. He has integrated insights from formal language theory and machine learning to build a computational theory of phonological learning. \n\nDr. Dai currently is teaching LING 123: The ABC's of Python: Language\, Mind\, and the Nature of Programming and will be teaching LING 513: Phonology in WN26.
UID:141086-21888117@events.umich.edu
URL:https://events.umich.edu/event/141086
CLASS:PUBLIC
STATUS:CONFIRMED
CATEGORIES:Cognitive Science,Computer Science,Language,Linguistics
LOCATION:East Hall - 4448
CONTACT:
END:VEVENT
END:VCALENDAR