BEGIN:VCALENDAR
VERSION:2.0
PRODID:-//UM//UM*Events//EN
CALSCALE:GREGORIAN
BEGIN:VTIMEZONE
TZID:America/Detroit
TZURL:http://tzurl.org/zoneinfo/America/Detroit
X-LIC-LOCATION:America/Detroit
BEGIN:DAYLIGHT
TZOFFSETFROM:-0500
TZOFFSETTO:-0400
TZNAME:EDT
DTSTART:20070311T020000
RRULE:FREQ=YEARLY;BYMONTH=3;BYDAY=2SU
END:DAYLIGHT
BEGIN:STANDARD
TZOFFSETFROM:-0400
TZOFFSETTO:-0500
TZNAME:EST
DTSTART:20071104T020000
RRULE:FREQ=YEARLY;BYMONTH=11;BYDAY=1SU
END:STANDARD
END:VTIMEZONE
BEGIN:VEVENT
DTSTAMP:20260331T163204
DTSTART;TZID=America/Detroit:20260410T120000
DTEND;TZID=America/Detroit:20260410T140000
SUMMARY:Workshop / Seminar:CGIS Advising Fair (for Winter 2027 study abroad)
DESCRIPTION:Want to plan ahead but not sure where to start? Thinking of study abroad during the winter term but have questions? Sign up for the CGIS Advising Fair and relevant info sessions to get answers before summer starts!\n\nIn Person CGIS Advising Fair: Friday\, April 10th - Drop in to the CGIS Office (Weiser Hall\, Suite 200) between 12-2pm\nVirtual Info Sessions: Monday\, April 6th--Friday\, April 10th\; Sign Up at https://sessions.studentlife.umich.edu/track/16503\n\nInfo Sessions will include topics such as:\nIntercultural First Step\nHumanities & Social Sciences Abroad\nPrograms in the Environment Abroad\nFinessing Scholarships Abroad\nGetting Credit Abroad & Transfer Process\nSTEM Abroad\nAustralia Abroad\nFrance Abroad\nItaly Abroad\nSpanish Language Abroad\nStudying Spanish Abroad in Granada\, Spain \nEnglish-taught Programs in Asia\nEnglish Programs in Spain\nThe UK Abroad\nPrograms in Non-Traditional Locations\nPrograms with DIS Abroad\n\nUnable to attend an info session but want to learn more? Sign up for the session anyway and we can send you the recording!
UID:145088-21896655@events.umich.edu
URL:https://events.umich.edu/event/145088
CLASS:PUBLIC
STATUS:CONFIRMED
CATEGORIES:Abroad,All Majors Welcome,Applications,global opportunities,International,International Education,Romance Languages And Literatures,Sessions,study abroad,The College Of Literature\, Science\, And The Arts,Transfer Students,Undergraduate Students
LOCATION:Weiser Hall - CGIS Office (2nd floor, Suite 200)
CONTACT:
END:VEVENT
END:VCALENDAR