BEGIN:VCALENDAR
VERSION:2.0
PRODID:-//UM//UM*Events//EN
CALSCALE:GREGORIAN
BEGIN:VTIMEZONE
TZID:America/Detroit
TZURL:http://tzurl.org/zoneinfo/America/Detroit
X-LIC-LOCATION:America/Detroit
BEGIN:DAYLIGHT
TZOFFSETFROM:-0500
TZOFFSETTO:-0400
TZNAME:EDT
DTSTART:20070311T020000
RRULE:FREQ=YEARLY;BYMONTH=3;BYDAY=2SU
END:DAYLIGHT
BEGIN:STANDARD
TZOFFSETFROM:-0400
TZOFFSETTO:-0500
TZNAME:EST
DTSTART:20071104T020000
RRULE:FREQ=YEARLY;BYMONTH=11;BYDAY=1SU
END:STANDARD
END:VTIMEZONE
BEGIN:VEVENT
DTSTAMP:20260219T131723
DTSTART;TZID=America/Detroit:20260420T120000
DTEND;TZID=America/Detroit:20260420T130000
SUMMARY:Presentation:STEM RCA: Online Info Session
DESCRIPTION:Join ONSF to learn about the three scholarships (STEM RCA\, Goldwater Scholarship\, and Astronaut Scholarship) that make up the STEM RCA.\n\nThis is an opportunity to learn about the STEM opportunities ONSF offers support for. If you're thinking about opening an application\, join us! you'll also be able to ask specific questions you have about your essays\, resume\, or recommenders. Come with any questions you have!
UID:145741-21897759@events.umich.edu
URL:https://events.umich.edu/event/145741
CLASS:PUBLIC
STATUS:CONFIRMED
CATEGORIES:Fellowships & Grants,Research,Scholarships
LOCATION:Off Campus Location
CONTACT:
END:VEVENT
END:VCALENDAR