BEGIN:VCALENDAR
VERSION:2.0
PRODID:-//UM//UM*Events//EN
CALSCALE:GREGORIAN
BEGIN:VTIMEZONE
TZID:America/Detroit
TZURL:http://tzurl.org/zoneinfo/America/Detroit
X-LIC-LOCATION:America/Detroit
BEGIN:DAYLIGHT
TZOFFSETFROM:-0500
TZOFFSETTO:-0400
TZNAME:EDT
DTSTART:20070311T020000
RRULE:FREQ=YEARLY;BYMONTH=3;BYDAY=2SU
END:DAYLIGHT
BEGIN:STANDARD
TZOFFSETFROM:-0400
TZOFFSETTO:-0500
TZNAME:EST
DTSTART:20071104T020000
RRULE:FREQ=YEARLY;BYMONTH=11;BYDAY=1SU
END:STANDARD
END:VTIMEZONE
BEGIN:VEVENT
DTSTAMP:20260309T135920
DTSTART;TZID=America/Detroit:20260319T120000
DTEND;TZID=America/Detroit:20260319T163000
SUMMARY:Social / Informal Gathering:Slavic Chocolate Party!
DESCRIPTION:Chocolate is a universal language—especially in the Slavic world!\nJoin us to learn about the Slavic language and regional studies programs offered at U‑M\, and treat your taste buds to chocolate delights from Central and Eastern Europe.\n\nExpand Your Palate\nExperience the diverse flavors of Slavic chocolate and broaden your culinary horizons.\n\nExplore Academic Opportunities\nDiscover the enriching programs and resources available through the Slavic Department.\n\nConnect with Peers\nMeet fellow students who share your interest in Slavic culture and chocolate indulgence.\n\nAll students from any U‑M school\, college\, or unit are welcome to join us in the 1st-floor MLB lobby.
UID:146348-21898939@events.umich.edu
URL:https://events.umich.edu/event/146348
CLASS:PUBLIC
STATUS:CONFIRMED
CATEGORIES:Crees,Culture,European,Food,Free,Info Session,Language Resource Center
LOCATION:Modern Languages Building - 1st-Floor Lobby
CONTACT:
END:VEVENT
END:VCALENDAR