BEGIN:VCALENDAR
VERSION:2.0
PRODID:-//UM//UM*Events//EN
CALSCALE:GREGORIAN
BEGIN:VTIMEZONE
TZID:America/Detroit
TZURL:http://tzurl.org/zoneinfo/America/Detroit
X-LIC-LOCATION:America/Detroit
BEGIN:DAYLIGHT
TZOFFSETFROM:-0500
TZOFFSETTO:-0400
TZNAME:EDT
DTSTART:20070311T020000
RRULE:FREQ=YEARLY;BYMONTH=3;BYDAY=2SU
END:DAYLIGHT
BEGIN:STANDARD
TZOFFSETFROM:-0400
TZOFFSETTO:-0500
TZNAME:EST
DTSTART:20071104T020000
RRULE:FREQ=YEARLY;BYMONTH=11;BYDAY=1SU
END:STANDARD
END:VTIMEZONE
BEGIN:VEVENT
DTSTAMP:20260414T134127
DTSTART;TZID=America/Detroit:20260501T170000
DTEND;TZID=America/Detroit:20260501T183000
SUMMARY:Ceremony / Service:The Department of Comparative Literature Graduation and Awards Ceremony
DESCRIPTION:You are invited to\nThe Department of Comparative Literature's Graduation and Awards Ceremony\n\nPlease join us for an evening of celebration as we honor the remarkable achievements of our students. We are so proud to recognize those graduating from and receiving awards in Comparative Literature\, Translation Studies\, and Transcultural Studies.\n\nDate: Friday\, May 1st\, 2026\nTime: 5:00 PM\nLocation: The Michigan League\, Vandenberg Room\n\nWe look forward to seeing you in your business casual best. Light appetizers and refreshments will be served as we celebrate our community's hard work.\nPlease let us know by April 20 if you'll be able to join us and bring a guest\, so we can make all the arrangements to make this event memorable for everyone.\n\nIf there is anything specific we can do to make this event accessible to you\, please contact complit-events-comm@umich.edu Please be aware that advance notice is necessary as some accommodations may require more time for the university to arrange.
UID:147734-21901664@events.umich.edu
URL:https://events.umich.edu/event/147734
CLASS:PUBLIC
STATUS:CONFIRMED
CATEGORIES:Complit,Graduation
LOCATION:Michigan League - Vandenberg Room
CONTACT:
END:VEVENT
END:VCALENDAR