BEGIN:VCALENDAR
VERSION:2.0
PRODID:-//UM//UM*Events//EN
CALSCALE:GREGORIAN
BEGIN:VTIMEZONE
TZID:America/Detroit
TZURL:http://tzurl.org/zoneinfo/America/Detroit
X-LIC-LOCATION:America/Detroit
BEGIN:DAYLIGHT
TZOFFSETFROM:-0500
TZOFFSETTO:-0400
TZNAME:EDT
DTSTART:20070311T020000
RRULE:FREQ=YEARLY;BYMONTH=3;BYDAY=2SU
END:DAYLIGHT
BEGIN:STANDARD
TZOFFSETFROM:-0400
TZOFFSETTO:-0500
TZNAME:EST
DTSTART:20071104T020000
RRULE:FREQ=YEARLY;BYMONTH=11;BYDAY=1SU
END:STANDARD
END:VTIMEZONE
BEGIN:VEVENT
DTSTAMP:20260416T092712
DTSTART;TZID=America/Detroit:20260422T123000
DTEND;TZID=America/Detroit:20260422T140000
SUMMARY:Workshop / Seminar:Making Mathematics Documents Accessible
DESCRIPTION:Guidance on how to make documents containing mathematics accessible featuring:\nGavin LaRose\, Mathematics Teaching Professor\, Karen Rhea Collegiate Lecturer\, Instructional Technology Program Manager\, and Introductory Program Director\, along with \nStephanie Rosen\, ITS Accessibility Unit Assistant Director\nBrandon Werner\, Digital Accessibility Analyst\, ITS Accessibility Unit \n\nThis will be held via Zoom: https://myumi.ch/mRj71
UID:147775-21901956@events.umich.edu
URL:https://events.umich.edu/event/147775
CLASS:PUBLIC
STATUS:CONFIRMED
CATEGORIES:Information and Technology,Mathematics
LOCATION:Off Campus Location
CONTACT:
END:VEVENT
END:VCALENDAR