BEGIN:VCALENDAR
VERSION:2.0
PRODID:-//UM//UM*Events//EN
CALSCALE:GREGORIAN
BEGIN:VTIMEZONE
TZID:America/Detroit
TZURL:http://tzurl.org/zoneinfo/America/Detroit
X-LIC-LOCATION:America/Detroit
BEGIN:DAYLIGHT
TZOFFSETFROM:-0500
TZOFFSETTO:-0400
TZNAME:EDT
DTSTART:20070311T020000
RRULE:FREQ=YEARLY;BYMONTH=3;BYDAY=2SU
END:DAYLIGHT
BEGIN:STANDARD
TZOFFSETFROM:-0400
TZOFFSETTO:-0500
TZNAME:EST
DTSTART:20071104T020000
RRULE:FREQ=YEARLY;BYMONTH=11;BYDAY=1SU
END:STANDARD
END:VTIMEZONE
BEGIN:VEVENT
DTSTAMP:20260424T115038
DTSTART;TZID=America/Detroit:20260530T110000
DTEND;TZID=America/Detroit:20260530T120000
SUMMARY:Performance:Dancing with the Dragon | Dragon Dance Performance at the Peony Garden
DESCRIPTION:In Chinese tradition\, dragons are bearers of auspicious wishes\, and peonies\, \"king of flowers\,\" symbolize prosperity and honor. Watch a bedazzling spectacle as the new U-M dragon winds its way down garden pathways filled with blossoming peonies--a welcomed event to usher in good fortune and summertime cheer. \n\n*Rain date is May 31\, 11:00 AM*\n\n*Accommodation: If there is anything we can do to make this event accessible to you\, please contact us at cstep@umich.edu. Please be aware that advance notice is necessary as some accommodations may require more time for the university to arrange.*
UID:147965-21902633@events.umich.edu
URL:https://events.umich.edu/event/147965
CLASS:PUBLIC
STATUS:CONFIRMED
CATEGORIES:Art,art and design,Asian Languages And Cultures,China,Chinese Studies,Dance,global,global engagement,Multidisciplinary Design
LOCATION:Matthaei Botanical Gardens - Peony Garden, 1610 Washington Hts Ann Arbor
CONTACT:
END:VEVENT
END:VCALENDAR