BEGIN:VCALENDAR
VERSION:2.0
PRODID:-//UM//UM*Events//EN
CALSCALE:GREGORIAN
BEGIN:VTIMEZONE
TZID:America/Detroit
TZURL:http://tzurl.org/zoneinfo/America/Detroit
X-LIC-LOCATION:America/Detroit
BEGIN:DAYLIGHT
TZOFFSETFROM:-0500
TZOFFSETTO:-0400
TZNAME:EDT
DTSTART:20070311T020000
RRULE:FREQ=YEARLY;BYMONTH=3;BYDAY=2SU
END:DAYLIGHT
BEGIN:STANDARD
TZOFFSETFROM:-0400
TZOFFSETTO:-0500
TZNAME:EST
DTSTART:20071104T020000
RRULE:FREQ=YEARLY;BYMONTH=11;BYDAY=1SU
END:STANDARD
END:VTIMEZONE
BEGIN:VEVENT
DTSTAMP:20170405T130323
DTSTART;TZID=America/Detroit:20170413T160000
DTEND;TZID=America/Detroit:20170413T180000
SUMMARY:Lecture / Discussion:EIHS Lecture: On Futures\, Past and Present
DESCRIPTION:Amid economic turbulence\, environmental disaster\, and political shocks\, some observers today perceive a crisis of futurity\, manifested in an inability to imagine better times to come\, in a mythic embroidery of old times\, or in fears of bygone calamities now returned to haunt the world. Under such conditions\, the horizon of expectation and hope may darken\, making it ever more difficult to mobilize effectively for change or even construct meaningful lives. \n\nOn Thursday\, two eminent and deeply engaged scholars\, historian Robin Blackburn and philosopher Nancy Fraser\, will address the problem of politics and vision in our time as well as present prospects for reopening the future. \n\nOn Friday\, University of Michigan faculty Lisa Disch (Political Science) and Kali Israel (History) will respond and join Blackburn and Fraser for discussion.\n\nRobin Blackburn teaches at the Graduate Faculty of the New School University\, New York\, and in the Sociology Department of the University of Essex. The former editor of New Left Review\, he is the author of Banking on Death—Or\, Investing in Life: The History and Future of Pensions\, The Making of New World Slavery and The Overthrow of Colonial Slavery\, and Age Shock: How Finance Is Failing Us.\n\nNancy Fraser is Henry A. & Louise Loeb Professor of Political & Social Science at The New School for Social Research\, Einstein Fellow of the city of Berlin\, and holder of the “Global Justice” Chair at the Collège d’études mondiales in Paris. Her books include Redistribution or Recognition\, Adding Insult to Injury\, Scales of Justice\, Justice Interruptus\, and Unruly Practices.\n\nFree and open to the public. \n\nThis event is part of the Thursday Series of the Eisenberg Institute for Historical Studies. It is made possible by a generous contribution from Kenneth and Frances Aftel Eisenberg.
UID:30824-3792843@events.umich.edu
URL:https://events.umich.edu/event/30824
CLASS:PUBLIC
STATUS:CONFIRMED
CATEGORIES:History
LOCATION:Hatcher Graduate Library - 100
CONTACT:
END:VEVENT
END:VCALENDAR