BEGIN:VCALENDAR
VERSION:2.0
PRODID:-//UM//UM*Events//EN
CALSCALE:GREGORIAN
BEGIN:VTIMEZONE
TZID:America/Detroit
TZURL:http://tzurl.org/zoneinfo/America/Detroit
X-LIC-LOCATION:America/Detroit
BEGIN:DAYLIGHT
TZOFFSETFROM:-0500
TZOFFSETTO:-0400
TZNAME:EDT
DTSTART:20070311T020000
RRULE:FREQ=YEARLY;BYMONTH=3;BYDAY=2SU
END:DAYLIGHT
BEGIN:STANDARD
TZOFFSETFROM:-0400
TZOFFSETTO:-0500
TZNAME:EST
DTSTART:20071104T020000
RRULE:FREQ=YEARLY;BYMONTH=11;BYDAY=1SU
END:STANDARD
END:VTIMEZONE
BEGIN:VEVENT
DTSTAMP:20160919T163410
DTSTART;TZID=America/Detroit:20161007T150000
DTEND;TZID=America/Detroit:20161007T170000
SUMMARY:Lecture / Discussion:The Dominance Principle in Epistemic Decision Theory
DESCRIPTION:https://philosophy.stanford.edu/people/rachael-briggs\n\nAccording to the Dominance Principle\, one should not choose a dominated act--one that yields a worse outcome than some other act no matter what the state of the world.  Similarly\, many epistemic decision theorists hold an Epistemic Dominance Principle\, which says that one should not adopt a dominated belief state --one that is less accurate than some other belief state no matter what the state of the world.  The Epistemic Dominance Principle is useful for vindicating probabilism.\n\nRecently\, authors like Michael Caie and Richard Pettigrew have raised doubts about the epistemic version of the Dominance Principle.  They argue that where a dominating belief state is unavailable or unchoiceworthy (in the right way)\, it cannot give us sufficient reason to reject the belief state it dominates.  \n\nI argue that the correct response to these challenges is to break the Dominance Principle into two parts: one that connects dominance to value comparisons\, and another that connects value comparisons to choices.  According this response\, domination by an unavailable belief state is not a sufficient reason to reject a belief state\, but domination by an unchoiceworthy belief state sometimes is.
UID:31432-4260702@events.umich.edu
URL:https://events.umich.edu/event/31432
CLASS:PUBLIC
STATUS:CONFIRMED
CATEGORIES:Philosophy
LOCATION:Angell Hall - 3222
CONTACT:
END:VEVENT
END:VCALENDAR