BEGIN:VCALENDAR
VERSION:2.0
PRODID:-//UM//UM*Events//EN
CALSCALE:GREGORIAN
BEGIN:VTIMEZONE
TZID:America/Detroit
TZURL:http://tzurl.org/zoneinfo/America/Detroit
X-LIC-LOCATION:America/Detroit
BEGIN:DAYLIGHT
TZOFFSETFROM:-0500
TZOFFSETTO:-0400
TZNAME:EDT
DTSTART:20070311T020000
RRULE:FREQ=YEARLY;BYMONTH=3;BYDAY=2SU
END:DAYLIGHT
BEGIN:STANDARD
TZOFFSETFROM:-0400
TZOFFSETTO:-0500
TZNAME:EST
DTSTART:20071104T020000
RRULE:FREQ=YEARLY;BYMONTH=11;BYDAY=1SU
END:STANDARD
END:VTIMEZONE
BEGIN:VEVENT
DTSTAMP:20170306T084517
DTSTART;TZID=America/Detroit:20170309T140000
DTEND;TZID=America/Detroit:20170309T150000
SUMMARY:Workshop / Seminar:CM Theory Seminars | Hunds Interaction\, Spin-Orbit Coupling and the Mechanism of Superconductivity in Heavily Hole-Doped Iron Pnictides
DESCRIPTION:Argument will be made for a novel unconventional mechanism for s-wave (A1g) Cooper pairing in heavily hole doped iron pnictides. This mechanism avoids large on-site intra-orbital repulsion\, and is favored when the renormalized Hunds interaction exceeds the renormalized onsite inter-orbital Couplomb repulsion. In the absence of spin-orbit interaction\, the Cooper pairing has A2g spin triplet character\, but with spin-orbit included\, the gap transforms as A1g. This is not just a change in bookkeeping. Rather\, it results in a qualitative difference in the nature of the pairing instability\, and in the temperature dependence of the Knight shift. The resulting gap has most of the features of the structure and gap anisotropy observed in laser angle resolved photoemission\, including thepossibility of accidental nodes. It explains why\, when such nodes are observed\, they appear only on the outer (Eg) Fermi surface\, as well as why the overall gap magnitude is smaller there than on the inner (Eg) Fermi surface.
UID:37140-6173170@events.umich.edu
URL:https://events.umich.edu/event/37140
CLASS:PUBLIC
STATUS:CONFIRMED
CATEGORIES:Free,Graduate,Lecture,Physics,Science,Talk,Undergraduate
LOCATION:West Hall - 335
CONTACT:
END:VEVENT
END:VCALENDAR