BEGIN:VCALENDAR
VERSION:2.0
PRODID:-//UM//UM*Events//EN
CALSCALE:GREGORIAN
BEGIN:VTIMEZONE
TZID:America/Detroit
TZURL:http://tzurl.org/zoneinfo/America/Detroit
X-LIC-LOCATION:America/Detroit
BEGIN:DAYLIGHT
TZOFFSETFROM:-0500
TZOFFSETTO:-0400
TZNAME:EDT
DTSTART:20070311T020000
RRULE:FREQ=YEARLY;BYMONTH=3;BYDAY=2SU
END:DAYLIGHT
BEGIN:STANDARD
TZOFFSETFROM:-0400
TZOFFSETTO:-0500
TZNAME:EST
DTSTART:20071104T020000
RRULE:FREQ=YEARLY;BYMONTH=11;BYDAY=1SU
END:STANDARD
END:VTIMEZONE
BEGIN:VEVENT
DTSTAMP:20170201T120026
DTSTART;TZID=America/Detroit:20170309T190000
DTEND;TZID=America/Detroit:20170309T210000
SUMMARY:Performance:\"Remnants\"
DESCRIPTION:\"Remnants\" is an award-winning\, minimalist piece that includes the voices of 3 men and 4 women\, currently presented as a one-man performance by the author. The play reflects more than 40 years of conversation between the playwright and a small group of Holocaust survivors. \"Remnants\" is thus not testimony\, but rather recreates memory as it erupts within sustained and deepening acquaintance.
UID:38490-7191732@events.umich.edu
URL:https://events.umich.edu/event/38490
CLASS:PUBLIC
STATUS:CONFIRMED
CATEGORIES:Discussion,Free,History,Jewish Studies,Language,Multicultural,Social Impact,Social Justice,Theater
LOCATION:Off Campus Location
CONTACT:
END:VEVENT
END:VCALENDAR