BEGIN:VCALENDAR
VERSION:2.0
PRODID:-//UM//UM*Events//EN
CALSCALE:GREGORIAN
BEGIN:VTIMEZONE
TZID:America/Detroit
TZURL:http://tzurl.org/zoneinfo/America/Detroit
X-LIC-LOCATION:America/Detroit
BEGIN:DAYLIGHT
TZOFFSETFROM:-0500
TZOFFSETTO:-0400
TZNAME:EDT
DTSTART:20070311T020000
RRULE:FREQ=YEARLY;BYMONTH=3;BYDAY=2SU
END:DAYLIGHT
BEGIN:STANDARD
TZOFFSETFROM:-0400
TZOFFSETTO:-0500
TZNAME:EST
DTSTART:20071104T020000
RRULE:FREQ=YEARLY;BYMONTH=11;BYDAY=1SU
END:STANDARD
END:VTIMEZONE
BEGIN:VEVENT
DTSTAMP:20180302T171546
DTSTART;TZID=America/Detroit:20180324T123000
DTEND;TZID=America/Detroit:20180324T153000
SUMMARY:Other:Family Day: Ancient Egypt
DESCRIPTION:Explore . . .\nThe Egyptian practice of mummification by mummifying Barbie™\n\nDiscover . . .\nHow you can virtually visit Egypt on your own computer or with Google Cardboard\n\nCreate . . .\nYour own Egyptian crown and Senet game board to live like a pharaoh\n\nThe Museum and Family Day are free and open to the public. Engaging\, hands-on activities take place in Newberry Hall. Kid-friendly tours of the exhibition will take place at 1:00\, 2:00\, and 3:00 PM.\n\nFor more information\, please call 734-647-4167 or visit: https://lsa.umich.edu/kelsey/education/public-programs/family-programs/family-day.html\nFor information on other family programs at the Kelsey Museum\, please visit: https://lsa.umich.edu/kelsey/education/public-programs/family-programs.html\n\nIf you are a person with a disability who requires an accommodation to attend this event\, please contact the education office (734-647-4167) at least two weeks in advance. We ask for advance notice as some accommodations may require more time for the University to arrange.
UID:50579-11805195@events.umich.edu
URL:https://events.umich.edu/event/50579
CLASS:PUBLIC
STATUS:CONFIRMED
CATEGORIES:Archaeology,Children,Family,Free,Museum
LOCATION:Kelsey Museum of Archaeology
CONTACT:
END:VEVENT
END:VCALENDAR