BEGIN:VCALENDAR
VERSION:2.0
PRODID:-//UM//UM*Events//EN
CALSCALE:GREGORIAN
BEGIN:VTIMEZONE
TZID:America/Detroit
TZURL:http://tzurl.org/zoneinfo/America/Detroit
X-LIC-LOCATION:America/Detroit
BEGIN:DAYLIGHT
TZOFFSETFROM:-0500
TZOFFSETTO:-0400
TZNAME:EDT
DTSTART:20070311T020000
RRULE:FREQ=YEARLY;BYMONTH=3;BYDAY=2SU
END:DAYLIGHT
BEGIN:STANDARD
TZOFFSETFROM:-0400
TZOFFSETTO:-0500
TZNAME:EST
DTSTART:20071104T020000
RRULE:FREQ=YEARLY;BYMONTH=11;BYDAY=1SU
END:STANDARD
END:VTIMEZONE
BEGIN:VEVENT
DTSTAMP:20200221T181624
DTSTART;TZID=America/Detroit:20200221T150000
DTEND;TZID=America/Detroit:20200221T150000
SUMMARY:Workshop / Seminar:Applied Interdisciplinary Mathematics (AIM) Seminar
DESCRIPTION:Motivated by applications such as ink jet printing\, drop-by-drop manufacturing\, sprays\, emulsions\, and chemical separations\, we study the dynamics of breakup and coalescence through high-accuracy simulation\, theory\, and experiment. In this talk\, I will highlight our group's work on accurately capturing the fluid dynamics that takes place in the vicinity of finite-time singularities. The free surface flow algorithms and solvers that we develop and use rely on a sharp interface representation of phase boundaries. In the simulations\, we are able to analyze situations that involve disparate length scales that differ by up to seven orders of magnitude (commercial codes can handle about 2-3 orders and custom codes can capture at most 3-4 orders of magnitude disparity in length scales). The primary focus of the talk will be on simulations of the breakup of surfactant covered filaments where I will pay special attention to the pinch-off singularity. I will also summarize some of our recent work on the pre- and post-coalescence singularities that arise when two drops or bubbles are driven together and made to merge into one.  Speaker(s): Osman Basaran (Purdue University)
UID:65276-16565495@events.umich.edu
URL:https://events.umich.edu/event/65276
CLASS:PUBLIC
STATUS:CONFIRMED
CATEGORIES:Mathematics
LOCATION:East Hall - 1084
CONTACT:
END:VEVENT
END:VCALENDAR