BEGIN:VCALENDAR
VERSION:2.0
PRODID:-//UM//UM*Events//EN
CALSCALE:GREGORIAN
BEGIN:VTIMEZONE
TZID:America/Detroit
TZURL:http://tzurl.org/zoneinfo/America/Detroit
X-LIC-LOCATION:America/Detroit
BEGIN:DAYLIGHT
TZOFFSETFROM:-0500
TZOFFSETTO:-0400
TZNAME:EDT
DTSTART:20070311T020000
RRULE:FREQ=YEARLY;BYMONTH=3;BYDAY=2SU
END:DAYLIGHT
BEGIN:STANDARD
TZOFFSETFROM:-0400
TZOFFSETTO:-0500
TZNAME:EST
DTSTART:20071104T020000
RRULE:FREQ=YEARLY;BYMONTH=11;BYDAY=1SU
END:STANDARD
END:VTIMEZONE
BEGIN:VEVENT
DTSTAMP:20200103T094208
DTSTART;TZID=America/Detroit:20200109T160000
DTEND;TZID=America/Detroit:20200109T170000
SUMMARY:Workshop / Seminar:Study Abroad for Transfer Students
DESCRIPTION:Meet with an Intercultural Programs Advisor from the Center for Global and Intercultural Study (CGIS)\, to discuss study abroad opportunities for transfer students. This session will highlight short-term study abroad programs that might be easier to fit into your time at Michigan\, as well as to answer any questions or concerns you might have about how these credits can work toward your UM degree.
UID:70885-17732904@events.umich.edu
URL:https://events.umich.edu/event/70885
CLASS:PUBLIC
STATUS:CONFIRMED
CATEGORIES:Transfer Students
LOCATION:LSA Building - 1180
CONTACT:
END:VEVENT
END:VCALENDAR