BEGIN:VCALENDAR
VERSION:2.0
PRODID:-//UM//UM*Events//EN
CALSCALE:GREGORIAN
BEGIN:VTIMEZONE
TZID:America/Detroit
TZURL:http://tzurl.org/zoneinfo/America/Detroit
X-LIC-LOCATION:America/Detroit
BEGIN:DAYLIGHT
TZOFFSETFROM:-0500
TZOFFSETTO:-0400
TZNAME:EDT
DTSTART:20070311T020000
RRULE:FREQ=YEARLY;BYMONTH=3;BYDAY=2SU
END:DAYLIGHT
BEGIN:STANDARD
TZOFFSETFROM:-0400
TZOFFSETTO:-0500
TZNAME:EST
DTSTART:20071104T020000
RRULE:FREQ=YEARLY;BYMONTH=11;BYDAY=1SU
END:STANDARD
END:VTIMEZONE
BEGIN:VEVENT
DTSTAMP:20200723T100401
DTSTART;TZID=America/Detroit:20200730T140000
DTEND;TZID=America/Detroit:20200730T150000
SUMMARY:Livestream / Virtual:Alum Connections: Mary Ellen Coe
DESCRIPTION:Alum Connections with Mary Ellen Coe\, President of Google Customer Solutions \n\nThe LSA Opportunity Hub is thrilled to host an Alum Connections session featuring Mary Ellen Coe!  \n\nAs President of Google Customer Solutions\, Mary Ellen oversees the global ads business for mid-market and small businesses\, serving millions of customers and thousands of partners worldwide. Her team helps businesses get online and grow\, focusing on sales and operations for this high-growth segment as well as the acquisition of new advertisers and channel partners for Google Ads and YouTube. Mary Ellen also has two decades of experience working in product management\, consumer marketing\, and brand strategy at agencies like Leo Burnett\, St. James Associates\, and most notably her role as Principal at McKinsey for their North American consumer marketing portfolio. \n\nRSVP today for a chance to learn about Mary Ellen’s incredible journey from LSA (Economics ‘89) to Google\, her work at the helm of Google Customer Solutions\, and how a liberal arts education translates into a career in tech and supports her work today. This is an exclusive opportunity for LSA students eager to engage with an immensely talented\, decorated\, and experienced leader. \n\nYou should attend this session if you are:\nA liberal arts and/or sciences undergraduate student\nInterested in a career in tech\, marketing\, or sales\nLooking to learn from an experienced tech leader\n \nWhat you’ll gain from attending:\nGet advice on how to navigate a career in tech\, sales\, and marketing\nAn understanding of the world of customer solutions within Google \nAn opportunity to connect with an alum who has leveraged her liberal arts degree into a career in tech\n\nRSVP now to reserve your spot. By signing up\, you will receive an email with details on how to join this virtual workshop the morning of the session.\n\nThe LSA Opportunity Hub aims to deliver inclusive and accessible experiences and welcomes all LSA students to participate. If you require accommodations to participate in this event please contact Carla Huhn at Carlavoy@umich.edu or 734.763.4674. so we can make arrangements.\n\nPlease be advised that this virtual event will be recorded and may be published later at future date through LSA Opportunity Hub’s media channels. If you'd prefer not to be recorded\, please make sure to mute your video at the start of the event. If you have any concerns or questions\, please reach out to us at lsa-opphub@umich.edu.
UID:75273-19401010@events.umich.edu
URL:https://events.umich.edu/event/75273
CLASS:PUBLIC
STATUS:CONFIRMED
CATEGORIES:Alum Connections,Alumni,Google,Marketing,Networking,Professional Development,Technology
LOCATION:
CONTACT:
END:VEVENT
END:VCALENDAR