BEGIN:VCALENDAR
VERSION:2.0
PRODID:-//UM//UM*Events//EN
CALSCALE:GREGORIAN
BEGIN:VTIMEZONE
TZID:America/Detroit
TZURL:http://tzurl.org/zoneinfo/America/Detroit
X-LIC-LOCATION:America/Detroit
BEGIN:DAYLIGHT
TZOFFSETFROM:-0500
TZOFFSETTO:-0400
TZNAME:EDT
DTSTART:20070311T020000
RRULE:FREQ=YEARLY;BYMONTH=3;BYDAY=2SU
END:DAYLIGHT
BEGIN:STANDARD
TZOFFSETFROM:-0400
TZOFFSETTO:-0500
TZNAME:EST
DTSTART:20071104T020000
RRULE:FREQ=YEARLY;BYMONTH=11;BYDAY=1SU
END:STANDARD
END:VTIMEZONE
BEGIN:VEVENT
DTSTAMP:20210208T083435
DTSTART;TZID=America/Detroit:20210210T160000
DTEND;TZID=America/Detroit:20210210T170000
SUMMARY:Workshop / Seminar:Michael Beauregard Seminar in Macroeconomics: Owning Up: Closely Held Firms and Wealth Inequality
DESCRIPTION:This paper studies how wealth inequality is shaped by frictions in debt and equity markets. Using micro data on households and firms for a set of Eurozone countries\, I document that in countries with greater wealth inequality\, there are more privately held firms and ownership of publicly traded firms is more concentrated. I develop a dynamic general equilibrium model in which entrepreneurs have the option to run a private firm and issue debt\, or go public and also issue outside equity.  Both forms of external finance are subject to country-specific frictions. More access to debt increases output as well as inequality. More access to outside equity also increases output\, but reduces inequality. When parameters are chosen to match the facts I document on firm ownership and financing\, the model predicts differences in wealth concentration across countries that closely fit the data. Quantitatively\, I find that frictions in equity markets are the key driver of these differences in inequality -- they are nearly six times as important as frictions in debt markets.\n\n*To join the seminar\, please contact at econ.events@umich.edu
UID:81271-20879910@events.umich.edu
URL:https://events.umich.edu/event/81271
CLASS:PUBLIC
STATUS:CONFIRMED
CATEGORIES:Economics,seminar
LOCATION:Off Campus Location
CONTACT:
END:VEVENT
END:VCALENDAR