BEGIN:VCALENDAR
VERSION:2.0
PRODID:-//UM//UM*Events//EN
CALSCALE:GREGORIAN
BEGIN:VTIMEZONE
TZID:America/Detroit
TZURL:http://tzurl.org/zoneinfo/America/Detroit
X-LIC-LOCATION:America/Detroit
BEGIN:DAYLIGHT
TZOFFSETFROM:-0500
TZOFFSETTO:-0400
TZNAME:EDT
DTSTART:20070311T020000
RRULE:FREQ=YEARLY;BYMONTH=3;BYDAY=2SU
END:DAYLIGHT
BEGIN:STANDARD
TZOFFSETFROM:-0400
TZOFFSETTO:-0500
TZNAME:EST
DTSTART:20071104T020000
RRULE:FREQ=YEARLY;BYMONTH=11;BYDAY=1SU
END:STANDARD
END:VTIMEZONE
BEGIN:VEVENT
DTSTAMP:20220404T112318
DTSTART;TZID=America/Detroit:20220420T100000
DTEND;TZID=America/Detroit:20220420T173000
SUMMARY:Conference / Symposium:UROP Spring Research Symposium
DESCRIPTION:The Undergraduate Research Opportunity Program’s Annual Research Symposium is the culminating event for all students participating in UROP Programs. The event celebrates the partnerships created between students and research mentors\, and serves as a conference where students present their research project and learn about the research their fellow UROP students have worked on throughout the program. \n\nThe 2022 UROP Spring Symposium will be held on Wednesday\, April 20th. This event will see the return to in-person research presentations at the Michigan League. This will be a hybrid event during which some of our students will present their research over Zoom.
UID:92031-21686276@events.umich.edu
URL:https://events.umich.edu/event/92031
CLASS:PUBLIC
STATUS:CONFIRMED
CATEGORIES:AEM Featured,colloquium,conference,Engineering,Environment,Faculty,Fellowship,first-generation,Free,Humanities,Interdisciplinary,Life Science,Networking,Professional Development,Prospective Undergraduate Students,Public Health,Public Policy,Research,research data,Social Impact,Social Justice,Social Sciences,Sophomore,symposium,The College Of Literature\, Science\, And The Arts,Transfer Students,Undergraduate,Undergraduate Students,Urop,Virtual
LOCATION:Michigan League - 2nd Floor
CONTACT:
END:VEVENT
END:VCALENDAR