BEGIN:VCALENDAR
VERSION:2.0
PRODID:-//UM//UM*Events//EN
CALSCALE:GREGORIAN
BEGIN:VTIMEZONE
TZID:America/Detroit
TZURL:http://tzurl.org/zoneinfo/America/Detroit
X-LIC-LOCATION:America/Detroit
BEGIN:DAYLIGHT
TZOFFSETFROM:-0500
TZOFFSETTO:-0400
TZNAME:EDT
DTSTART:20070311T020000
RRULE:FREQ=YEARLY;BYMONTH=3;BYDAY=2SU
END:DAYLIGHT
BEGIN:STANDARD
TZOFFSETFROM:-0400
TZOFFSETTO:-0500
TZNAME:EST
DTSTART:20071104T020000
RRULE:FREQ=YEARLY;BYMONTH=11;BYDAY=1SU
END:STANDARD
END:VTIMEZONE
BEGIN:VEVENT
DTSTAMP:20230119T131819
DTSTART;TZID=America/Detroit:20220429T140000
DTEND;TZID=America/Detroit:20220429T180000
SUMMARY:Ceremony / Service:Program in Biology Commencement Celebrations!
DESCRIPTION:The faculty & staff of the Program in Biology and the departments of EEB & MCDB invite students and their families to celebrate the 2021-2022 graduates of the Program in Biology majors!\n\nThe invitation and RSVP can be found here: \nhttps://umich.qualtrics.com/jfe/form/SV_3IO2hw4DiFFMY0k\n(Note that times and locations are different for different majors.)\n\nStudents must respond by April 4 in order to participate.\n\nPlease be aware that the 2022 ceremonies will be live-streamed and recorded for guests who cannot attend (live-stream link to follow).
UID:93969-21712969@events.umich.edu
URL:https://events.umich.edu/event/93969
CLASS:PUBLIC
STATUS:CONFIRMED
CATEGORIES:Biology,Commencement,Ecology And Evolutionary Biology
LOCATION:
CONTACT:
END:VEVENT
END:VCALENDAR