BEGIN:VCALENDAR
VERSION:2.0
PRODID:-//UM//UM*Events//EN
CALSCALE:GREGORIAN
BEGIN:VTIMEZONE
TZID:America/Detroit
TZURL:http://tzurl.org/zoneinfo/America/Detroit
X-LIC-LOCATION:America/Detroit
BEGIN:DAYLIGHT
TZOFFSETFROM:-0500
TZOFFSETTO:-0400
TZNAME:EDT
DTSTART:20070311T020000
RRULE:FREQ=YEARLY;BYMONTH=3;BYDAY=2SU
END:DAYLIGHT
BEGIN:STANDARD
TZOFFSETFROM:-0400
TZOFFSETTO:-0500
TZNAME:EST
DTSTART:20071104T020000
RRULE:FREQ=YEARLY;BYMONTH=11;BYDAY=1SU
END:STANDARD
END:VTIMEZONE
BEGIN:VEVENT
DTSTAMP:20220826T194656
DTSTART;TZID=America/Detroit:20221001T090000
DTEND;TZID=America/Detroit:20221001T170000
SUMMARY:Conference / Symposium:UMMAA at 100: Michigan's Mark - Past\, Present\, Future
DESCRIPTION:The University of Michigan Museum of Anthropological Archaeology (UMMAA) was founded in 1922. Over the course of a century\, its curators\, students\, and staff have made indelible marks on archaeological theory and practice\, the world over. At the “UMMAA at 100” conference we will take time to celebrate these accomplishments\, consider the current state of the discipline\, and chart possible futures. Where has archaeology been\, where is it going? What roles will UMMAA and its legacy play in defining archaeology for the next 100 years?\n\nClick here to see the speaker list and learn more about the conference and events: https://sites.lsa.umich.edu/ummaa-at-100/\n\nRegistration is required in advance to attend in person. Register here: https://docs.google.com/forms/d/e/1FAIpQLScRD7Fd-PIvMNif-KR2e8bOgnlPAASYCutOKfKkSGB3S_srOw/viewform\n\nThe conference will also be livestreamed\, and registration is not required to access the livestream feeds. The livestream links are posted on the right\, on the UMMAA website (https://lsa.umich.edu/ummaa) and the Conference's website (https://sites.lsa.umich.edu/ummaa-at-100/).\n\nUMMAA gratefully acknowledges generous support from the University of Michigan College of LSA and from ​The University of Michigan Office of Research.
UID:96268-21792207@events.umich.edu
URL:https://events.umich.edu/event/96268
CLASS:PUBLIC
STATUS:CONFIRMED
CATEGORIES:Anthropology,Archaeology
LOCATION:Rackham Graduate School (Horace H.) - 4th floor Amphitheatre
CONTACT:
END:VEVENT
END:VCALENDAR