BEGIN:VCALENDAR
VERSION:2.0
PRODID:-//UM//UM*Events//EN
CALSCALE:GREGORIAN
BEGIN:VTIMEZONE
TZID:America/Detroit
TZURL:http://tzurl.org/zoneinfo/America/Detroit
X-LIC-LOCATION:America/Detroit
BEGIN:DAYLIGHT
TZOFFSETFROM:-0500
TZOFFSETTO:-0400
TZNAME:EDT
DTSTART:20070311T020000
RRULE:FREQ=YEARLY;BYMONTH=3;BYDAY=2SU
END:DAYLIGHT
BEGIN:STANDARD
TZOFFSETFROM:-0400
TZOFFSETTO:-0500
TZNAME:EST
DTSTART:20071104T020000
RRULE:FREQ=YEARLY;BYMONTH=11;BYDAY=1SU
END:STANDARD
END:VTIMEZONE
BEGIN:VEVENT
DTSTAMP:20220829T075643
DTSTART;TZID=America/Detroit:20220831T130000
DTEND;TZID=America/Detroit:20220831T140000
SUMMARY:Lecture / Discussion:HET Brown Bag | Interesting Aspects of Nearly Extremal Black Holes
DESCRIPTION:I will discuss some very interesting aspects of physics one can learn from studying nearly extremal black holes\, especially the near-horizon AdS_2 region.
UID:97564-21794756@events.umich.edu
URL:https://events.umich.edu/event/97564
CLASS:PUBLIC
STATUS:CONFIRMED
CATEGORIES:brown bag,Brown Bag Seminar,Physics,Science
LOCATION:Randall Laboratory - 3481
CONTACT:
END:VEVENT
END:VCALENDAR