BEGIN:VCALENDAR
VERSION:2.0
PRODID:-//UM//UM*Events//EN
CALSCALE:GREGORIAN
BEGIN:VTIMEZONE
TZID:America/Detroit
TZURL:http://tzurl.org/zoneinfo/America/Detroit
X-LIC-LOCATION:America/Detroit
BEGIN:DAYLIGHT
TZOFFSETFROM:-0500
TZOFFSETTO:-0400
TZNAME:EDT
DTSTART:20070311T020000
RRULE:FREQ=YEARLY;BYMONTH=3;BYDAY=2SU
END:DAYLIGHT
BEGIN:STANDARD
TZOFFSETFROM:-0400
TZOFFSETTO:-0500
TZNAME:EST
DTSTART:20071104T020000
RRULE:FREQ=YEARLY;BYMONTH=11;BYDAY=1SU
END:STANDARD
END:VTIMEZONE
BEGIN:VEVENT
DTSTAMP:20221021T091233
DTSTART;TZID=America/Detroit:20221118T100000
DTEND;TZID=America/Detroit:20221118T130000
SUMMARY:Meeting:Write-Together
DESCRIPTION:Write-Together sessions provide structure\, accountability\, and support for graduate writers working on writing at any stage\, from papers to theses to journal articles to dissertations and more. For each of these sessions\, participants can meet in-person or access a Zoom link and a shared Google document that will serve as a communal virtual space. Students will be invited to post pre-writing goals and post-writing reflections in the document. Writers can also schedule a 10-minute Zoom meeting with Sweetland faculty during each session to discuss writing questions. We will also provide weekly writing strategies to habituate students to best writing practices.\n\nSupported by the Rackham Graduate School and the Sweetland Center for Writing.
UID:97717-21795010@events.umich.edu
URL:https://events.umich.edu/event/97717
CLASS:PUBLIC
STATUS:CONFIRMED
CATEGORIES:Dissertation,Graduate,Graduate and Professional Students,Graduate School,graduate students,write,writers,writing
LOCATION:North Quad - Space 2435
CONTACT:
END:VEVENT
END:VCALENDAR