BEGIN:VCALENDAR
VERSION:2.0
PRODID:-//UM//UM*Events//EN
CALSCALE:GREGORIAN
BEGIN:VTIMEZONE
TZID:America/Detroit
TZURL:http://tzurl.org/zoneinfo/America/Detroit
X-LIC-LOCATION:America/Detroit
BEGIN:DAYLIGHT
TZOFFSETFROM:-0500
TZOFFSETTO:-0400
TZNAME:EDT
DTSTART:20070311T020000
RRULE:FREQ=YEARLY;BYMONTH=3;BYDAY=2SU
END:DAYLIGHT
BEGIN:STANDARD
TZOFFSETFROM:-0400
TZOFFSETTO:-0500
TZNAME:EST
DTSTART:20071104T020000
RRULE:FREQ=YEARLY;BYMONTH=11;BYDAY=1SU
END:STANDARD
END:VTIMEZONE
BEGIN:VEVENT
DTSTAMP:20240329T103459
DTSTART;TZID=America/Detroit:20240412T130000
DTEND;TZID=America/Detroit:20240412T140000
SUMMARY:Livestream / Virtual:Psych/BCN Prospective Transfer Student Drop-in Advising
DESCRIPTION:Staff advisors will be available via Zoom to answer your drop-in questions about the Psych and BCN majors\, transfer credit\, research opportunities\, and more. Students will be seen one at a time in the order in which they join the Zoom room. \n\n3/29/24 10-11am ET\n4/12/24 1-2pm ET\n\nJoin the Zoom: https://umich.zoom.us/j/97069369998
UID:98211-21795726@events.umich.edu
URL:https://events.umich.edu/event/98211
CLASS:PUBLIC
STATUS:CONFIRMED
CATEGORIES:Biopsychology\, Cognition\, And Neuroscience (Bcn),Prospective Undergraduate Students,Psychology,Transfer Students
LOCATION:Off Campus Location
CONTACT:
END:VEVENT
END:VCALENDAR