BEGIN:VCALENDAR
VERSION:2.0
PRODID:-//UM//UM*Events//EN
CALSCALE:GREGORIAN
BEGIN:VTIMEZONE
TZID:America/Detroit
TZURL:http://tzurl.org/zoneinfo/America/Detroit
X-LIC-LOCATION:America/Detroit
BEGIN:DAYLIGHT
TZOFFSETFROM:-0500
TZOFFSETTO:-0400
TZNAME:EDT
DTSTART:20070311T020000
RRULE:FREQ=YEARLY;BYMONTH=3;BYDAY=2SU
END:DAYLIGHT
BEGIN:STANDARD
TZOFFSETFROM:-0400
TZOFFSETTO:-0500
TZNAME:EST
DTSTART:20071104T020000
RRULE:FREQ=YEARLY;BYMONTH=11;BYDAY=1SU
END:STANDARD
END:VTIMEZONE
BEGIN:VEVENT
DTSTAMP:20090630T142803
DTSTART;TZID=America/Detroit:20080831T083000
DTEND;TZID=America/Detroit:20080831T220000
SUMMARY:Other:Weekend Masses at St. Mary's
DESCRIPTION:Wonder who else is Catholic and where they go every Sunday?  Come meet them  today!  Experience liturgy at St. Mary's\, where worship is inviting and focused on  serving students and others who are part of the UM community.  Our Mass schedule  today is at 8:30 and 10\, 10:10am\, Noon\, 2 pm (in Spanish)\, 5 pm\, 7pm\, and 9 pm.  Questions?   Call 663-0557 or email stmarys@umich.edu.  All are welcome!
UID:41-909075@events.umich.edu
URL:https://events.umich.edu/event/41
CLASS:PUBLIC
STATUS:CONFIRMED
CATEGORIES:religious,spiritual
LOCATION:
CONTACT:
END:VEVENT
BEGIN:VEVENT
DTSTAMP:20090630T143113
DTSTART;TZID=America/Detroit:20080831T140000
DTEND;TZID=America/Detroit:20080831T150000
SUMMARY:Other:Spanish Mass at St. Mary's
DESCRIPTION:Habla Espanol?  Join the Hispanic-Latino community who worship at St. Mary's every  Sunday at 2:00 pm.  There will be a special Pan Dulce (Mexican style sweets!) after the Mass.    Questions?  Call 663-0557 or email stmarys@umich.edu.  A great opportunity to practice your  Spanish!  Todos estan bienvenidos!
UID:1228-914061@events.umich.edu
URL:https://events.umich.edu/event/1228
CLASS:PUBLIC
STATUS:CONFIRMED
CATEGORIES:religious,spiritual
LOCATION:
CONTACT:
END:VEVENT
END:VCALENDAR