BEGIN:VCALENDAR
VERSION:2.0
PRODID:-//UM//UM*Events//EN
CALSCALE:GREGORIAN
BEGIN:VTIMEZONE
TZID:America/Detroit
TZURL:http://tzurl.org/zoneinfo/America/Detroit
X-LIC-LOCATION:America/Detroit
BEGIN:DAYLIGHT
TZOFFSETFROM:-0500
TZOFFSETTO:-0400
TZNAME:EDT
DTSTART:20070311T020000
RRULE:FREQ=YEARLY;BYMONTH=3;BYDAY=2SU
END:DAYLIGHT
BEGIN:STANDARD
TZOFFSETFROM:-0400
TZOFFSETTO:-0500
TZNAME:EST
DTSTART:20071104T020000
RRULE:FREQ=YEARLY;BYMONTH=11;BYDAY=1SU
END:STANDARD
END:VTIMEZONE
BEGIN:VEVENT
DTSTAMP:20090630T143254
DTSTART;TZID=America/Detroit:20080902T170000
DTEND;TZID=America/Detroit:20080902T174500
SUMMARY:Other:Daily Mass at St. Mary's
DESCRIPTION:Take a break on the first day of class and come to Mass with your friends.  Every  week\, daily Masses are 5:10 - 5:45 pm Monday through Thursday and 12:10 -  12:45 pm on Fridays.  Questions?  Call 663-0557 or email stmarys@umich.edu.
UID:758-912466@events.umich.edu
URL:https://events.umich.edu/event/758
CLASS:PUBLIC
STATUS:CONFIRMED
CATEGORIES:religious,spiritual
LOCATION:
CONTACT:
END:VEVENT
END:VCALENDAR