BEGIN:VCALENDAR
VERSION:2.0
PRODID:-//UM//UM*Events//EN
CALSCALE:GREGORIAN
BEGIN:VTIMEZONE
TZID:America/Detroit
TZURL:http://tzurl.org/zoneinfo/America/Detroit
X-LIC-LOCATION:America/Detroit
BEGIN:DAYLIGHT
TZOFFSETFROM:-0500
TZOFFSETTO:-0400
TZNAME:EDT
DTSTART:20070311T020000
RRULE:FREQ=YEARLY;BYMONTH=3;BYDAY=2SU
END:DAYLIGHT
BEGIN:STANDARD
TZOFFSETFROM:-0400
TZOFFSETTO:-0500
TZNAME:EST
DTSTART:20071104T020000
RRULE:FREQ=YEARLY;BYMONTH=11;BYDAY=1SU
END:STANDARD
END:VTIMEZONE
BEGIN:VEVENT
DTSTAMP:20090630T143905
DTSTART;TZID=America/Detroit:20080910T190000
DTEND;TZID=America/Detroit:20080910T210000
SUMMARY:Other:Newman Student Gathering
DESCRIPTION:Would you like to meet other undergraduate Catholics like yourself?  Then this is  the place to come every Wednesday evening from 7 – 9 pm.  We'll sing and pray  together and discuss issues that many students face throughout the year.  All are  welcome!  Bring your friends!  Questions?  Call 663-0557 or email  stmarys@umich.edu.
UID:531-911739@events.umich.edu
URL:https://events.umich.edu/event/531
CLASS:PUBLIC
STATUS:CONFIRMED
CATEGORIES:religious,spiritual
LOCATION:
CONTACT:
END:VEVENT
END:VCALENDAR