BEGIN:VCALENDAR
VERSION:2.0
PRODID:-//UM//UM*Events//EN
CALSCALE:GREGORIAN
BEGIN:VTIMEZONE
TZID:America/Detroit
TZURL:http://tzurl.org/zoneinfo/America/Detroit
X-LIC-LOCATION:America/Detroit
BEGIN:DAYLIGHT
TZOFFSETFROM:-0500
TZOFFSETTO:-0400
TZNAME:EDT
DTSTART:20070311T020000
RRULE:FREQ=YEARLY;BYMONTH=3;BYDAY=2SU
END:DAYLIGHT
BEGIN:STANDARD
TZOFFSETFROM:-0400
TZOFFSETTO:-0500
TZNAME:EST
DTSTART:20071104T020000
RRULE:FREQ=YEARLY;BYMONTH=11;BYDAY=1SU
END:STANDARD
END:VTIMEZONE
BEGIN:VEVENT
DTSTAMP:20090630T150628
DTSTART;TZID=America/Detroit:20080918T190000
DTEND;TZID=America/Detroit:20080918T210000
SUMMARY:Other:Interested in Learning More About or in Joining the Catholic Church?
DESCRIPTION:If you have not received Confirmation\, have been away from the Church for a while\,  would like to enter into full communion with the Catholic Church\, or would just like  to learn more about the Catholic faith\, this is the group for you.  The RCIA (Rite of  Christian Initiation for Adults) meets every Thursday from 7 - 9 pm.  Questions?   Call 663-0557 or email stmarys@umich.edu.
UID:1702-916512@events.umich.edu
URL:https://events.umich.edu/event/1702
CLASS:PUBLIC
STATUS:CONFIRMED
CATEGORIES:religious,spiritual
LOCATION:
CONTACT:
END:VEVENT
END:VCALENDAR