BEGIN:VCALENDAR
VERSION:2.0
PRODID:-//UM//UM*Events//EN
CALSCALE:GREGORIAN
BEGIN:VTIMEZONE
TZID:America/Detroit
TZURL:http://tzurl.org/zoneinfo/America/Detroit
X-LIC-LOCATION:America/Detroit
BEGIN:DAYLIGHT
TZOFFSETFROM:-0500
TZOFFSETTO:-0400
TZNAME:EDT
DTSTART:20070311T020000
RRULE:FREQ=YEARLY;BYMONTH=3;BYDAY=2SU
END:DAYLIGHT
BEGIN:STANDARD
TZOFFSETFROM:-0400
TZOFFSETTO:-0500
TZNAME:EST
DTSTART:20071104T020000
RRULE:FREQ=YEARLY;BYMONTH=11;BYDAY=1SU
END:STANDARD
END:VTIMEZONE
BEGIN:VEVENT
DTSTAMP:20090911T111602
DTSTART;TZID=America/Detroit:20080921T140000
DTEND;TZID=America/Detroit:20080921T163000
SUMMARY:Other:Radio Astronomy Observatory Open House
DESCRIPTION:Free tour of the Department of Astronomy's Radio Astronomy Observatory at Peach  Mountain in Dexter. Open to the general public. There will be a brief introductory  lecture at 2:15 p.m.
UID:349-910393@events.umich.edu
URL:https://events.umich.edu/event/349
CLASS:PUBLIC
STATUS:CONFIRMED
CATEGORIES:
LOCATION:
CONTACT:
END:VEVENT
END:VCALENDAR