BEGIN:VCALENDAR
VERSION:2.0
PRODID:-//UM//UM*Events//EN
CALSCALE:GREGORIAN
BEGIN:VTIMEZONE
TZID:America/Detroit
TZURL:http://tzurl.org/zoneinfo/America/Detroit
X-LIC-LOCATION:America/Detroit
BEGIN:DAYLIGHT
TZOFFSETFROM:-0500
TZOFFSETTO:-0400
TZNAME:EDT
DTSTART:20070311T020000
RRULE:FREQ=YEARLY;BYMONTH=3;BYDAY=2SU
END:DAYLIGHT
BEGIN:STANDARD
TZOFFSETFROM:-0400
TZOFFSETTO:-0500
TZNAME:EST
DTSTART:20071104T020000
RRULE:FREQ=YEARLY;BYMONTH=11;BYDAY=1SU
END:STANDARD
END:VTIMEZONE
BEGIN:VEVENT
DTSTAMP:20091102T150050
DTSTART;TZID=America/Detroit:20090407T153000
DTEND;TZID=America/Detroit:20090407T173000
SUMMARY:Lecture / Discussion:Department of Astronomy Colloquia Series
DESCRIPTION:A weekly lecture series with Astronomy or Astrophysics related topics. Please see  department website for featured speaker and lecture topic. There will be a brief  reception with light refreshments preceding the lecture in room 845 Dennison from  3:30-4:00 pm.
UID:1689-915687@events.umich.edu
URL:https://events.umich.edu/event/1689
CLASS:PUBLIC
STATUS:CONFIRMED
CATEGORIES:
LOCATION:Weiser Hall - 807
CONTACT:
END:VEVENT
END:VCALENDAR