BEGIN:VCALENDAR
VERSION:2.0
PRODID:-//UM//UM*Events//EN
CALSCALE:GREGORIAN
BEGIN:VTIMEZONE
TZID:America/Detroit
TZURL:http://tzurl.org/zoneinfo/America/Detroit
X-LIC-LOCATION:America/Detroit
BEGIN:DAYLIGHT
TZOFFSETFROM:-0500
TZOFFSETTO:-0400
TZNAME:EDT
DTSTART:20070311T020000
RRULE:FREQ=YEARLY;BYMONTH=3;BYDAY=2SU
END:DAYLIGHT
BEGIN:STANDARD
TZOFFSETFROM:-0400
TZOFFSETTO:-0500
TZNAME:EST
DTSTART:20071104T020000
RRULE:FREQ=YEARLY;BYMONTH=11;BYDAY=1SU
END:STANDARD
END:VTIMEZONE
BEGIN:VEVENT
DTSTAMP:20101111T175850
DTSTART;TZID=America/Detroit:20090606T080000
DTEND;TZID=America/Detroit:20090606T200000
SUMMARY:Exhibition:Animals & People: Photo Collage Jewelry
DESCRIPTION:ANIMALS & PEOPLE: PHOTO COLLAGE JEWELRY Dawn Estrin & George Wilson Combining forces and a common interest in themes such as art\, romance and humor\, Dawn Estrin and George Wilson create a unique vision of what jewelry can be. Wilson is a master toolmaker\, and he makes special tools for the creation of the jewelry\, as well as inventing designs and building models for them. Estrin creates the imagery for the jewelry. Working in Photoshop\, she montages different images together to create a fantasy or story\, many inspired by humankind's relationship to the natural world. Their work\, known as Bijou Graphique\, is represented by over 300 galleries and museums in the U.S.\, Canada and Australia. They are currently working on a new project of jewelry for pets.
UID:3877-920879@events.umich.edu
URL:https://events.umich.edu/event/3877
CLASS:PUBLIC
STATUS:CONFIRMED
CATEGORIES:visual arts
LOCATION:University Hospitals - Main Lobby, Floor I
CONTACT:
END:VEVENT
BEGIN:VEVENT
DTSTAMP:20101111T175731
DTSTART;TZID=America/Detroit:20090606T080000
DTEND;TZID=America/Detroit:20090606T200000
SUMMARY:Exhibition:Gifts of Spring: Handblown Glass & Ceramics
DESCRIPTION:GIFTS OF SPRING: HANDBLOWN GLASS & CERAMICS Kimberley Emmert Inspired by nature and brought to life with earth and fire\, Kimberley Emmert's pieces in glass and ceramics celebrate spring. Her handblown glass pieces have a landscape\, almost Monet-like theme\, and the designs are often whimsical and floral. John Emmert\, Kimberley's husband\, assists her work in their studio in Linden\, MI. In addition to art making\, Kimberley teaches classes at home and also works in the studio at the Flint Institute of the Arts.
UID:3841-915655@events.umich.edu
URL:https://events.umich.edu/event/3841
CLASS:PUBLIC
STATUS:CONFIRMED
CATEGORIES:visual arts
LOCATION:Taubman Center - Taubman North Lobby, Floor I
CONTACT:
END:VEVENT
BEGIN:VEVENT
DTSTAMP:20101111T175649
DTSTART;TZID=America/Detroit:20090606T080000
DTEND;TZID=America/Detroit:20090606T200000
SUMMARY:Exhibition:Group Pottery Show: Village Potter's Guild
DESCRIPTION:GROUP POTTERY SHOW Village Potters Guild Founded in Plymouth\, Michigan in 1995\, the Village Potters Guild is a non-profit studio made up of ceramic artists who share the common bond of working with clay in a cooperative setting. Current members bring a rich diversity of style\, form and expression to the art of pottery and ceramics. Cooperative spirit and creativity are requirements for membership\, and members help fund and operate the guild through dues and participation in various guild functions\, meetings and activities. The Village Potters Guild offers classes\, workshops and community projects.
UID:3818-912824@events.umich.edu
URL:https://events.umich.edu/event/3818
CLASS:PUBLIC
STATUS:CONFIRMED
CATEGORIES:visual arts
LOCATION:Taubman Center - Taubman South Lobby, Floor I
CONTACT:
END:VEVENT
BEGIN:VEVENT
DTSTAMP:20101111T175653
DTSTART;TZID=America/Detroit:20090606T080000
DTEND;TZID=America/Detroit:20090606T200000
SUMMARY:Exhibition:Snip Shots: Cut Paper Narratives
DESCRIPTION:SNIP SHOTS: CUT PAPER NARRATIVES Mary Gaynier Mary Gaynier\, of Toledo\, Ohio\, began experimenting with cut paper in 2001\, and has since had over 50 exhibitions of her work. Often compared to the traditional German art form\, Scherrenschnitte – scissors cutting\, where paper is cut with scissors into intricate\, delicate folk art designs\, her work speaks in different ways from different distances. At a distance one might see a more abstract rhythmic pattern\, and then up close be surprised to find a scene of a bustling city or a child at play.
UID:3821-913139@events.umich.edu
URL:https://events.umich.edu/event/3821
CLASS:PUBLIC
STATUS:CONFIRMED
CATEGORIES:visual arts
LOCATION:University Hospitals - Main Corridor West, Floor 2
CONTACT:
END:VEVENT
BEGIN:VEVENT
DTSTAMP:20090511T163134
DTSTART;TZID=America/Detroit:20090606T080000
DTEND;TZID=America/Detroit:20090606T200000
SUMMARY:Exhibition:Suspended Moments: Panoramic Photographs
DESCRIPTION:SUSPENDED MOMENTS: PANORAMIC PHOTOGRAPHS Gary Mesa-Gaido\, Professor of Art at Morehead State University in Kentucky\, records suspended moments of migratory human activity within historical architectural places and spaces\, such as plazas\, train stations\, courtyards\, churches and museums. Utilizing digital technology\, Mesa-Gaido takes up to forty photographs in a 180 degree rotation at each location\, from which he selects an average of eighteen images to stitch together with Adobe Photoshop. The result is a singular panoramic photograph which captures the movement of individuals during a sequence of time.
UID:3803-911014@events.umich.edu
URL:https://events.umich.edu/event/3803
CLASS:PUBLIC
STATUS:CONFIRMED
CATEGORIES:visual arts
LOCATION:Taubman Center - Taubman North Lobby, Floor I
CONTACT:
END:VEVENT
BEGIN:VEVENT
DTSTAMP:20101111T175846
DTSTART;TZID=America/Detroit:20090606T080000
DTEND;TZID=America/Detroit:20090606T200000
SUMMARY:Exhibition:Symphony of Quilts: Michigan Quilt Artists Invitational
DESCRIPTION:SYMPHONY OF QUILTS Michigan Quilt Artists Invitational Welcome music lovers to the 11th annual exhibit of the Michigan Quilt Artists Invitational. Curators Mary Andrews of Grand Blanc and Marty Calhoun of Flint have invited fiber artists from around the state to create a small quilt exploring the facets of music. The quilts express different nuances of many varieties of music from classical to country to rock and roll.  In fiber art\, the exhibit celebrates the grandeur of music in nature as well as musical instruments\, composers\, singers and bands.
UID:3874-920659@events.umich.edu
URL:https://events.umich.edu/event/3874
CLASS:PUBLIC
STATUS:CONFIRMED
CATEGORIES:visual arts
LOCATION:Taubman Center - Taubman South Lobby, Floor I
CONTACT:
END:VEVENT
BEGIN:VEVENT
DTSTAMP:20101111T175756
DTSTART;TZID=America/Detroit:20090606T080000
DTEND;TZID=America/Detroit:20090606T200000
SUMMARY:Exhibition:Threads of Light: Fiber Art
DESCRIPTION:THREADS OF LIGHT: FIBER ART Laurie Wohl Internationally known fiber artist Laurie Wohl unweaves canvas to create symbolic shapes – wings\, trees\, prayer shawls\, veils\, windows\, scrolls and ladders. She embeds spiritual narratives in these delicate pieces through form\, color\, texture\, calligraphy and her own iconographic language\, imbuing the pieces with the spirit and mystery of ancient textile traditions. Her Unweavings ® fiber art have been on long-term loan to the United States Embassies in Beirut\, Vienna\, Tunis\, Cape Town\, and Pretoria. Wohl has studios in both New York City and southwestern Wisconsin.
UID:3854-917421@events.umich.edu
URL:https://events.umich.edu/event/3854
CLASS:PUBLIC
STATUS:CONFIRMED
CATEGORIES:visual arts
LOCATION:University Hospitals - Main Lobby, Floor I
CONTACT:
END:VEVENT
BEGIN:VEVENT
DTSTAMP:20090410T094342
DTSTART;TZID=America/Detroit:20090606T100000
DTEND;TZID=America/Detroit:20090606T170000
SUMMARY:Other:Exhibit
DESCRIPTION:He may be best known as the author of Sherlock Holmes stories but Sir Arthur Conan Doyle's own pursuits  reached beyond a fictional character. This exhibit features items representing the life\, work and interests of Sir  Doyle\, selected from over 2000 artifacts in the Parker Family  Arthur Conan Doyle Collection.
UID:617-911269@events.umich.edu
URL:https://events.umich.edu/event/617
CLASS:PUBLIC
STATUS:CONFIRMED
CATEGORIES:
LOCATION:Hatcher Graduate Library - Special Collections Library, 7th Floor
CONTACT:
END:VEVENT
BEGIN:VEVENT
DTSTAMP:20090513T083625
DTSTART;TZID=America/Detroit:20090606T200000
SUMMARY:Performance:MOLECULES
DESCRIPTION:\"If you are a student\, teacher\, or professional in a field of science\, then you will not want to miss  MOLECULES\, a high-energy\, entertaining\, and inspirational one-act science show. A cast of five  actors progress in time through music\, song\, dance\, and multimedia\, from middle school to  college levels of science education. With great original music that is combined with musical hits  from the past\, exciting dance numbers\, high-quality large screen multimedia\, a little magic\, and a  rock-the-house finish\, MOLECULES will ignite your science passion.\"
UID:1620-915534@events.umich.edu
URL:https://events.umich.edu/event/1620
CLASS:PUBLIC
STATUS:CONFIRMED
CATEGORIES:music,theater
LOCATION:Power Center for the Performing Arts
CONTACT:
END:VEVENT
END:VCALENDAR