BEGIN:VCALENDAR
VERSION:2.0
PRODID:-//UM//UM*Events//EN
CALSCALE:GREGORIAN
BEGIN:VTIMEZONE
TZID:America/Detroit
TZURL:http://tzurl.org/zoneinfo/America/Detroit
X-LIC-LOCATION:America/Detroit
BEGIN:DAYLIGHT
TZOFFSETFROM:-0500
TZOFFSETTO:-0400
TZNAME:EDT
DTSTART:20070311T020000
RRULE:FREQ=YEARLY;BYMONTH=3;BYDAY=2SU
END:DAYLIGHT
BEGIN:STANDARD
TZOFFSETFROM:-0400
TZOFFSETTO:-0500
TZNAME:EST
DTSTART:20071104T020000
RRULE:FREQ=YEARLY;BYMONTH=11;BYDAY=1SU
END:STANDARD
END:VTIMEZONE
BEGIN:VEVENT
DTSTAMP:20101111T175850
DTSTART;TZID=America/Detroit:20090609T080000
DTEND;TZID=America/Detroit:20090609T200000
SUMMARY:Exhibition:Animals & People: Photo Collage Jewelry
DESCRIPTION:ANIMALS & PEOPLE: PHOTO COLLAGE JEWELRY Dawn Estrin & George Wilson Combining forces and a common interest in themes such as art\, romance and humor\, Dawn Estrin and George Wilson create a unique vision of what jewelry can be. Wilson is a master toolmaker\, and he makes special tools for the creation of the jewelry\, as well as inventing designs and building models for them. Estrin creates the imagery for the jewelry. Working in Photoshop\, she montages different images together to create a fantasy or story\, many inspired by humankind's relationship to the natural world. Their work\, known as Bijou Graphique\, is represented by over 300 galleries and museums in the U.S.\, Canada and Australia. They are currently working on a new project of jewelry for pets.
UID:3877-920882@events.umich.edu
URL:https://events.umich.edu/event/3877
CLASS:PUBLIC
STATUS:CONFIRMED
CATEGORIES:visual arts
LOCATION:University Hospitals - Main Lobby, Floor I
CONTACT:
END:VEVENT
BEGIN:VEVENT
DTSTAMP:20101111T175802
DTSTART;TZID=America/Detroit:20090609T080000
DTEND;TZID=America/Detroit:20090609T170000
SUMMARY:Exhibition:Art from an Eggshell
DESCRIPTION:ART FROM AN EGGSHELL Tina M. Boes With a vision and a high speed drill\, Tina M. Boes sets to work creating unique and inspiring heirloom quality art out of real eggshells. Since her start in 2001\, the art that she produces from her studio in her hometown of Muskegon\, MIchigan is now widely recognized and has been published worldwide. She has won many awards for her stunning detail and designs. Boes is founder and president of a non-profit international organization dedicated solely to the art and education of carving and sculpting real eggshells.
UID:3859-917939@events.umich.edu
URL:https://events.umich.edu/event/3859
CLASS:PUBLIC
STATUS:CONFIRMED
CATEGORIES:visual arts
LOCATION:Cancer Center - Main Lobby, Level B2
CONTACT:
END:VEVENT
BEGIN:VEVENT
DTSTAMP:20101111T175611
DTSTART;TZID=America/Detroit:20090609T080000
DTEND;TZID=America/Detroit:20090609T170000
SUMMARY:Exhibition:Cancer Healing Quilts: Fiber Artists @ Loose Ends
DESCRIPTION:CANCER HEALING QUILTS Fiber Artists at Loose Ends The Fiber Artists @ Loose Ends created the fine art quilts in this exhibit to provide education and a pleasing environment for patients\, visitors\, scientists and staff at the U-M Health System. Under the theme of plants and animals that are used in chemotherapy treatments\, each fiber artist brought her own individual style\, interpretation and experience to the idea of cancer healing. Each quilt has an accompanying artist statement and description of the subject matter of the pieces\, including scientific information about the natural subject's medicinal applications for cancer patients.
UID:3799-910024@events.umich.edu
URL:https://events.umich.edu/event/3799
CLASS:PUBLIC
STATUS:CONFIRMED
CATEGORIES:visual arts
LOCATION:Cancer Center - Level I
CONTACT:
END:VEVENT
BEGIN:VEVENT
DTSTAMP:20101111T175731
DTSTART;TZID=America/Detroit:20090609T080000
DTEND;TZID=America/Detroit:20090609T200000
SUMMARY:Exhibition:Gifts of Spring: Handblown Glass & Ceramics
DESCRIPTION:GIFTS OF SPRING: HANDBLOWN GLASS & CERAMICS Kimberley Emmert Inspired by nature and brought to life with earth and fire\, Kimberley Emmert's pieces in glass and ceramics celebrate spring. Her handblown glass pieces have a landscape\, almost Monet-like theme\, and the designs are often whimsical and floral. John Emmert\, Kimberley's husband\, assists her work in their studio in Linden\, MI. In addition to art making\, Kimberley teaches classes at home and also works in the studio at the Flint Institute of the Arts.
UID:3841-915658@events.umich.edu
URL:https://events.umich.edu/event/3841
CLASS:PUBLIC
STATUS:CONFIRMED
CATEGORIES:visual arts
LOCATION:Taubman Center - Taubman North Lobby, Floor I
CONTACT:
END:VEVENT
BEGIN:VEVENT
DTSTAMP:20101111T175649
DTSTART;TZID=America/Detroit:20090609T080000
DTEND;TZID=America/Detroit:20090609T200000
SUMMARY:Exhibition:Group Pottery Show: Village Potter's Guild
DESCRIPTION:GROUP POTTERY SHOW Village Potters Guild Founded in Plymouth\, Michigan in 1995\, the Village Potters Guild is a non-profit studio made up of ceramic artists who share the common bond of working with clay in a cooperative setting. Current members bring a rich diversity of style\, form and expression to the art of pottery and ceramics. Cooperative spirit and creativity are requirements for membership\, and members help fund and operate the guild through dues and participation in various guild functions\, meetings and activities. The Village Potters Guild offers classes\, workshops and community projects.
UID:3818-912827@events.umich.edu
URL:https://events.umich.edu/event/3818
CLASS:PUBLIC
STATUS:CONFIRMED
CATEGORIES:visual arts
LOCATION:Taubman Center - Taubman South Lobby, Floor I
CONTACT:
END:VEVENT
BEGIN:VEVENT
DTSTAMP:20101111T175653
DTSTART;TZID=America/Detroit:20090609T080000
DTEND;TZID=America/Detroit:20090609T200000
SUMMARY:Exhibition:Snip Shots: Cut Paper Narratives
DESCRIPTION:SNIP SHOTS: CUT PAPER NARRATIVES Mary Gaynier Mary Gaynier\, of Toledo\, Ohio\, began experimenting with cut paper in 2001\, and has since had over 50 exhibitions of her work. Often compared to the traditional German art form\, Scherrenschnitte – scissors cutting\, where paper is cut with scissors into intricate\, delicate folk art designs\, her work speaks in different ways from different distances. At a distance one might see a more abstract rhythmic pattern\, and then up close be surprised to find a scene of a bustling city or a child at play.
UID:3821-913122@events.umich.edu
URL:https://events.umich.edu/event/3821
CLASS:PUBLIC
STATUS:CONFIRMED
CATEGORIES:visual arts
LOCATION:University Hospitals - Main Corridor West, Floor 2
CONTACT:
END:VEVENT
BEGIN:VEVENT
DTSTAMP:20090511T163134
DTSTART;TZID=America/Detroit:20090609T080000
DTEND;TZID=America/Detroit:20090609T200000
SUMMARY:Exhibition:Suspended Moments: Panoramic Photographs
DESCRIPTION:SUSPENDED MOMENTS: PANORAMIC PHOTOGRAPHS Gary Mesa-Gaido\, Professor of Art at Morehead State University in Kentucky\, records suspended moments of migratory human activity within historical architectural places and spaces\, such as plazas\, train stations\, courtyards\, churches and museums. Utilizing digital technology\, Mesa-Gaido takes up to forty photographs in a 180 degree rotation at each location\, from which he selects an average of eighteen images to stitch together with Adobe Photoshop. The result is a singular panoramic photograph which captures the movement of individuals during a sequence of time.
UID:3803-911017@events.umich.edu
URL:https://events.umich.edu/event/3803
CLASS:PUBLIC
STATUS:CONFIRMED
CATEGORIES:visual arts
LOCATION:Taubman Center - Taubman North Lobby, Floor I
CONTACT:
END:VEVENT
BEGIN:VEVENT
DTSTAMP:20101111T175846
DTSTART;TZID=America/Detroit:20090609T080000
DTEND;TZID=America/Detroit:20090609T200000
SUMMARY:Exhibition:Symphony of Quilts: Michigan Quilt Artists Invitational
DESCRIPTION:SYMPHONY OF QUILTS Michigan Quilt Artists Invitational Welcome music lovers to the 11th annual exhibit of the Michigan Quilt Artists Invitational. Curators Mary Andrews of Grand Blanc and Marty Calhoun of Flint have invited fiber artists from around the state to create a small quilt exploring the facets of music. The quilts express different nuances of many varieties of music from classical to country to rock and roll.  In fiber art\, the exhibit celebrates the grandeur of music in nature as well as musical instruments\, composers\, singers and bands.
UID:3874-920662@events.umich.edu
URL:https://events.umich.edu/event/3874
CLASS:PUBLIC
STATUS:CONFIRMED
CATEGORIES:visual arts
LOCATION:Taubman Center - Taubman South Lobby, Floor I
CONTACT:
END:VEVENT
BEGIN:VEVENT
DTSTAMP:20101111T175756
DTSTART;TZID=America/Detroit:20090609T080000
DTEND;TZID=America/Detroit:20090609T200000
SUMMARY:Exhibition:Threads of Light: Fiber Art
DESCRIPTION:THREADS OF LIGHT: FIBER ART Laurie Wohl Internationally known fiber artist Laurie Wohl unweaves canvas to create symbolic shapes – wings\, trees\, prayer shawls\, veils\, windows\, scrolls and ladders. She embeds spiritual narratives in these delicate pieces through form\, color\, texture\, calligraphy and her own iconographic language\, imbuing the pieces with the spirit and mystery of ancient textile traditions. Her Unweavings ® fiber art have been on long-term loan to the United States Embassies in Beirut\, Vienna\, Tunis\, Cape Town\, and Pretoria. Wohl has studios in both New York City and southwestern Wisconsin.
UID:3854-917424@events.umich.edu
URL:https://events.umich.edu/event/3854
CLASS:PUBLIC
STATUS:CONFIRMED
CATEGORIES:visual arts
LOCATION:University Hospitals - Main Lobby, Floor I
CONTACT:
END:VEVENT
BEGIN:VEVENT
DTSTAMP:20090410T094342
DTSTART;TZID=America/Detroit:20090609T100000
DTEND;TZID=America/Detroit:20090609T170000
SUMMARY:Other:Exhibit
DESCRIPTION:He may be best known as the author of Sherlock Holmes stories but Sir Arthur Conan Doyle's own pursuits  reached beyond a fictional character. This exhibit features items representing the life\, work and interests of Sir  Doyle\, selected from over 2000 artifacts in the Parker Family  Arthur Conan Doyle Collection.
UID:617-911271@events.umich.edu
URL:https://events.umich.edu/event/617
CLASS:PUBLIC
STATUS:CONFIRMED
CATEGORIES:
LOCATION:Hatcher Graduate Library - Special Collections Library, 7th Floor
CONTACT:
END:VEVENT
BEGIN:VEVENT
DTSTAMP:20090609T030000
DTSTART;TZID=America/Detroit:20090609T190000
SUMMARY:Other:Anatomy of Sound Faculty Recital:  Amy Porter\, flute and Christopher Harding\, piano
DESCRIPTION:PROGRAM:  Karg-Elert - Sinfonische Kanzone Op. 114 for flute and piano\; Sampson - Undercurrents for flute unaccompanied\;  Martinu - First Sonata for Flute and Piano\; J.S.Bach - Suite No. 5 BWV 1011 for violoncello solo\; Kuster - Perpetual Noon for Flute and Piano\; Caliendo - Sonata No. 3 for Flute and Piano (2007)
UID:2158-918507@events.umich.edu
URL:https://events.umich.edu/event/2158
CLASS:PUBLIC
STATUS:CONFIRMED
CATEGORIES:music
LOCATION:Walgreen Drama Center - Stamps Auditorium
CONTACT:
END:VEVENT
BEGIN:VEVENT
DTSTAMP:20101111T175641
DTSTART;TZID=America/Detroit:20090609T190000
DTEND;TZID=America/Detroit:20090609T203000
SUMMARY:Lecture / Discussion:From Ideas to Innovation
DESCRIPTION:Developing new medical technologies to improve health and health services does not happen automatically. It takes an idea and the commitment of an interdisciplinary team to make it happen. Join us at this fascinating symposium to hear how innovative solutions can happen – and how they're making a difference.
UID:730-912443@events.umich.edu
URL:https://events.umich.edu/event/730
CLASS:PUBLIC
STATUS:CONFIRMED
CATEGORIES:multicultural
LOCATION:
CONTACT:
END:VEVENT
BEGIN:VEVENT
DTSTAMP:20090609T030000
DTSTART;TZID=America/Detroit:20090609T200000
SUMMARY:Other:First Dissertation Recital:  Donald Johnson\, organ
DESCRIPTION:PROGRAM: J.S. Bach - Prelude in G Major\, BWV 568\; Buxtehude - Ein feste Burg ist unser Gott\, BuxWV 184\; Buxtehude - Nur bitten wir\, BuxWV 208\; J.S. Bach - SchÃ¼bler Chorales\; Franck - Cantabile\; Baptista - Sonata\; Reger - Benedictus\, Op. 59\, No. 9\; Pachabel - Toccata in E Minor
UID:2991-921901@events.umich.edu
URL:https://events.umich.edu/event/2991
CLASS:PUBLIC
STATUS:CONFIRMED
CATEGORIES:music
LOCATION:Hill Auditorium -  
CONTACT:
END:VEVENT
BEGIN:VEVENT
DTSTAMP:20101111T175650
DTSTART;TZID=America/Detroit:20090609T200000
SUMMARY:Performance:Hayes Carll
DESCRIPTION:Texan songwriter Hayes Carll was hit it big last year with \"She Left Me for Jesus\,\" a  funny\, churlish tune that won the Americana Music Association's Song of the Year  award and that Don Imus called the greatest country song ever written. But there's  more to Hayes Carll than that one song. Hayes honed his craft for several years in  the now-destroyed bars of the Bolivar Pensinsula near Galveston\, and he's  accumulated a body of storytelling songs with enough of an edge to cut through the  resistance of a tough crowd. With influences from Townes Van Zandt\, Steve Earle\,  and Tom Waits\, whose \"I Don't Want to Grow Up\" he covered on his recent \"Trouble  in Mind\" album for Lost Highway\, Hayes puts it all together into a fresh sound that  brings honky-tonk music to a new generation.
UID:1030-912878@events.umich.edu
URL:https://events.umich.edu/event/1030
CLASS:PUBLIC
STATUS:CONFIRMED
CATEGORIES:music
LOCATION:
CONTACT:
END:VEVENT
END:VCALENDAR