BEGIN:VCALENDAR
VERSION:2.0
PRODID:-//UM//UM*Events//EN
CALSCALE:GREGORIAN
BEGIN:VTIMEZONE
TZID:America/Detroit
TZURL:http://tzurl.org/zoneinfo/America/Detroit
X-LIC-LOCATION:America/Detroit
BEGIN:DAYLIGHT
TZOFFSETFROM:-0500
TZOFFSETTO:-0400
TZNAME:EDT
DTSTART:20070311T020000
RRULE:FREQ=YEARLY;BYMONTH=3;BYDAY=2SU
END:DAYLIGHT
BEGIN:STANDARD
TZOFFSETFROM:-0400
TZOFFSETTO:-0500
TZNAME:EST
DTSTART:20071104T020000
RRULE:FREQ=YEARLY;BYMONTH=11;BYDAY=1SU
END:STANDARD
END:VTIMEZONE
BEGIN:VEVENT
DTSTAMP:20101111T175850
DTSTART;TZID=America/Detroit:20090611T080000
DTEND;TZID=America/Detroit:20090611T200000
SUMMARY:Exhibition:Animals & People: Photo Collage Jewelry
DESCRIPTION:ANIMALS & PEOPLE: PHOTO COLLAGE JEWELRY Dawn Estrin & George Wilson Combining forces and a common interest in themes such as art\, romance and humor\, Dawn Estrin and George Wilson create a unique vision of what jewelry can be. Wilson is a master toolmaker\, and he makes special tools for the creation of the jewelry\, as well as inventing designs and building models for them. Estrin creates the imagery for the jewelry. Working in Photoshop\, she montages different images together to create a fantasy or story\, many inspired by humankind's relationship to the natural world. Their work\, known as Bijou Graphique\, is represented by over 300 galleries and museums in the U.S.\, Canada and Australia. They are currently working on a new project of jewelry for pets.
UID:3877-920884@events.umich.edu
URL:https://events.umich.edu/event/3877
CLASS:PUBLIC
STATUS:CONFIRMED
CATEGORIES:visual arts
LOCATION:University Hospitals - Main Lobby, Floor I
CONTACT:
END:VEVENT
BEGIN:VEVENT
DTSTAMP:20101111T175802
DTSTART;TZID=America/Detroit:20090611T080000
DTEND;TZID=America/Detroit:20090611T170000
SUMMARY:Exhibition:Art from an Eggshell
DESCRIPTION:ART FROM AN EGGSHELL Tina M. Boes With a vision and a high speed drill\, Tina M. Boes sets to work creating unique and inspiring heirloom quality art out of real eggshells. Since her start in 2001\, the art that she produces from her studio in her hometown of Muskegon\, MIchigan is now widely recognized and has been published worldwide. She has won many awards for her stunning detail and designs. Boes is founder and president of a non-profit international organization dedicated solely to the art and education of carving and sculpting real eggshells.
UID:3859-917941@events.umich.edu
URL:https://events.umich.edu/event/3859
CLASS:PUBLIC
STATUS:CONFIRMED
CATEGORIES:visual arts
LOCATION:Cancer Center - Main Lobby, Level B2
CONTACT:
END:VEVENT
BEGIN:VEVENT
DTSTAMP:20101111T175611
DTSTART;TZID=America/Detroit:20090611T080000
DTEND;TZID=America/Detroit:20090611T170000
SUMMARY:Exhibition:Cancer Healing Quilts: Fiber Artists @ Loose Ends
DESCRIPTION:CANCER HEALING QUILTS Fiber Artists at Loose Ends The Fiber Artists @ Loose Ends created the fine art quilts in this exhibit to provide education and a pleasing environment for patients\, visitors\, scientists and staff at the U-M Health System. Under the theme of plants and animals that are used in chemotherapy treatments\, each fiber artist brought her own individual style\, interpretation and experience to the idea of cancer healing. Each quilt has an accompanying artist statement and description of the subject matter of the pieces\, including scientific information about the natural subject's medicinal applications for cancer patients.
UID:3799-910026@events.umich.edu
URL:https://events.umich.edu/event/3799
CLASS:PUBLIC
STATUS:CONFIRMED
CATEGORIES:visual arts
LOCATION:Cancer Center - Level I
CONTACT:
END:VEVENT
BEGIN:VEVENT
DTSTAMP:20101111T175731
DTSTART;TZID=America/Detroit:20090611T080000
DTEND;TZID=America/Detroit:20090611T200000
SUMMARY:Exhibition:Gifts of Spring: Handblown Glass & Ceramics
DESCRIPTION:GIFTS OF SPRING: HANDBLOWN GLASS & CERAMICS Kimberley Emmert Inspired by nature and brought to life with earth and fire\, Kimberley Emmert's pieces in glass and ceramics celebrate spring. Her handblown glass pieces have a landscape\, almost Monet-like theme\, and the designs are often whimsical and floral. John Emmert\, Kimberley's husband\, assists her work in their studio in Linden\, MI. In addition to art making\, Kimberley teaches classes at home and also works in the studio at the Flint Institute of the Arts.
UID:3841-915660@events.umich.edu
URL:https://events.umich.edu/event/3841
CLASS:PUBLIC
STATUS:CONFIRMED
CATEGORIES:visual arts
LOCATION:Taubman Center - Taubman North Lobby, Floor I
CONTACT:
END:VEVENT
BEGIN:VEVENT
DTSTAMP:20101111T175649
DTSTART;TZID=America/Detroit:20090611T080000
DTEND;TZID=America/Detroit:20090611T200000
SUMMARY:Exhibition:Group Pottery Show: Village Potter's Guild
DESCRIPTION:GROUP POTTERY SHOW Village Potters Guild Founded in Plymouth\, Michigan in 1995\, the Village Potters Guild is a non-profit studio made up of ceramic artists who share the common bond of working with clay in a cooperative setting. Current members bring a rich diversity of style\, form and expression to the art of pottery and ceramics. Cooperative spirit and creativity are requirements for membership\, and members help fund and operate the guild through dues and participation in various guild functions\, meetings and activities. The Village Potters Guild offers classes\, workshops and community projects.
UID:3818-912829@events.umich.edu
URL:https://events.umich.edu/event/3818
CLASS:PUBLIC
STATUS:CONFIRMED
CATEGORIES:visual arts
LOCATION:Taubman Center - Taubman South Lobby, Floor I
CONTACT:
END:VEVENT
BEGIN:VEVENT
DTSTAMP:20101111T175653
DTSTART;TZID=America/Detroit:20090611T080000
DTEND;TZID=America/Detroit:20090611T200000
SUMMARY:Exhibition:Snip Shots: Cut Paper Narratives
DESCRIPTION:SNIP SHOTS: CUT PAPER NARRATIVES Mary Gaynier Mary Gaynier\, of Toledo\, Ohio\, began experimenting with cut paper in 2001\, and has since had over 50 exhibitions of her work. Often compared to the traditional German art form\, Scherrenschnitte – scissors cutting\, where paper is cut with scissors into intricate\, delicate folk art designs\, her work speaks in different ways from different distances. At a distance one might see a more abstract rhythmic pattern\, and then up close be surprised to find a scene of a bustling city or a child at play.
UID:3821-913124@events.umich.edu
URL:https://events.umich.edu/event/3821
CLASS:PUBLIC
STATUS:CONFIRMED
CATEGORIES:visual arts
LOCATION:University Hospitals - Main Corridor West, Floor 2
CONTACT:
END:VEVENT
BEGIN:VEVENT
DTSTAMP:20090511T163134
DTSTART;TZID=America/Detroit:20090611T080000
DTEND;TZID=America/Detroit:20090611T200000
SUMMARY:Exhibition:Suspended Moments: Panoramic Photographs
DESCRIPTION:SUSPENDED MOMENTS: PANORAMIC PHOTOGRAPHS Gary Mesa-Gaido\, Professor of Art at Morehead State University in Kentucky\, records suspended moments of migratory human activity within historical architectural places and spaces\, such as plazas\, train stations\, courtyards\, churches and museums. Utilizing digital technology\, Mesa-Gaido takes up to forty photographs in a 180 degree rotation at each location\, from which he selects an average of eighteen images to stitch together with Adobe Photoshop. The result is a singular panoramic photograph which captures the movement of individuals during a sequence of time.
UID:3803-911019@events.umich.edu
URL:https://events.umich.edu/event/3803
CLASS:PUBLIC
STATUS:CONFIRMED
CATEGORIES:visual arts
LOCATION:Taubman Center - Taubman North Lobby, Floor I
CONTACT:
END:VEVENT
BEGIN:VEVENT
DTSTAMP:20101111T175846
DTSTART;TZID=America/Detroit:20090611T080000
DTEND;TZID=America/Detroit:20090611T200000
SUMMARY:Exhibition:Symphony of Quilts: Michigan Quilt Artists Invitational
DESCRIPTION:SYMPHONY OF QUILTS Michigan Quilt Artists Invitational Welcome music lovers to the 11th annual exhibit of the Michigan Quilt Artists Invitational. Curators Mary Andrews of Grand Blanc and Marty Calhoun of Flint have invited fiber artists from around the state to create a small quilt exploring the facets of music. The quilts express different nuances of many varieties of music from classical to country to rock and roll.  In fiber art\, the exhibit celebrates the grandeur of music in nature as well as musical instruments\, composers\, singers and bands.
UID:3874-920664@events.umich.edu
URL:https://events.umich.edu/event/3874
CLASS:PUBLIC
STATUS:CONFIRMED
CATEGORIES:visual arts
LOCATION:Taubman Center - Taubman South Lobby, Floor I
CONTACT:
END:VEVENT
BEGIN:VEVENT
DTSTAMP:20101111T175756
DTSTART;TZID=America/Detroit:20090611T080000
DTEND;TZID=America/Detroit:20090611T200000
SUMMARY:Exhibition:Threads of Light: Fiber Art
DESCRIPTION:THREADS OF LIGHT: FIBER ART Laurie Wohl Internationally known fiber artist Laurie Wohl unweaves canvas to create symbolic shapes – wings\, trees\, prayer shawls\, veils\, windows\, scrolls and ladders. She embeds spiritual narratives in these delicate pieces through form\, color\, texture\, calligraphy and her own iconographic language\, imbuing the pieces with the spirit and mystery of ancient textile traditions. Her Unweavings ® fiber art have been on long-term loan to the United States Embassies in Beirut\, Vienna\, Tunis\, Cape Town\, and Pretoria. Wohl has studios in both New York City and southwestern Wisconsin.
UID:3854-917426@events.umich.edu
URL:https://events.umich.edu/event/3854
CLASS:PUBLIC
STATUS:CONFIRMED
CATEGORIES:visual arts
LOCATION:University Hospitals - Main Lobby, Floor I
CONTACT:
END:VEVENT
BEGIN:VEVENT
DTSTAMP:20090410T094342
DTSTART;TZID=America/Detroit:20090611T100000
DTEND;TZID=America/Detroit:20090611T170000
SUMMARY:Other:Exhibit
DESCRIPTION:He may be best known as the author of Sherlock Holmes stories but Sir Arthur Conan Doyle's own pursuits  reached beyond a fictional character. This exhibit features items representing the life\, work and interests of Sir  Doyle\, selected from over 2000 artifacts in the Parker Family  Arthur Conan Doyle Collection.
UID:617-911273@events.umich.edu
URL:https://events.umich.edu/event/617
CLASS:PUBLIC
STATUS:CONFIRMED
CATEGORIES:
LOCATION:Hatcher Graduate Library - Special Collections Library, 7th Floor
CONTACT:
END:VEVENT
BEGIN:VEVENT
DTSTAMP:20101111T175718
DTSTART;TZID=America/Detroit:20090611T120000
DTEND;TZID=America/Detroit:20090611T130000
SUMMARY:Other:Fiddle Music\, Song & Dance
DESCRIPTION:Gifts of Art brings the world of art and music to the University of Michigan Health System. For more information\, call 936-ARTS (2787) or visit the website.\n\nIn case of inclement weather\, the performance will take place indoors in the University Hospital Main Lobby\, Floor 1.
UID:3834-914782@events.umich.edu
URL:https://events.umich.edu/event/3834
CLASS:PUBLIC
STATUS:CONFIRMED
CATEGORIES:
LOCATION:University Hospitals - Courtyard
CONTACT:
END:VEVENT
BEGIN:VEVENT
DTSTAMP:20090605T091201
DTSTART;TZID=America/Detroit:20090611T120000
DTEND;TZID=America/Detroit:20090611T130000
SUMMARY:Workshop / Seminar:The University of Michigan Departments of Anthropology and Ecology & Evolutionary Biology
DESCRIPTION:Abstract: My research has focused on the evolution of the heat shock proteins and  the heat shock response. One focus of my research has been on the evolution and  diversification of the small heat shock proteins and the Hsp70s. My lab has found  that these proteins are highly diverse in land plants and that this diversity is not  shared with green algae. This finding strongly suggests that the movement to land  was a strong selective force driving the evolution of this ancient molecular response  to temperature stress. In addition to examining the evolution of gene families  across deeply divergent lineages my lab has also examined the evolution of the  Hsps and gene expression patterns among closely related species and within  species that differ in their ability to withstand temperature stress. The aims of these  studies are to examine what aspects of the heat shock response are the most  evolutionary labile and how these changes influence organismal traits.
UID:2499-920091@events.umich.edu
URL:https://events.umich.edu/event/2499
CLASS:PUBLIC
STATUS:CONFIRMED
CATEGORIES:
LOCATION:Kraus Natural Science - 2111
CONTACT:
END:VEVENT
BEGIN:VEVENT
DTSTAMP:20101111T175849
DTSTART;TZID=America/Detroit:20090611T183000
SUMMARY:Performance:Shakespeare in the Arb:  Twelfth Night
DESCRIPTION:\"Twelfth Night\,\" one of Shakespeare's more well-known comedies\, is a story of love  and identity – mistaken love and mistaken identity. The play contains some of  Shakespeare's most well loved speeches and songs and lends itself well to the  natural setting of the Arb. Kate Mendeloff directs UM students and a host of  community members to make this mobile production a success. Wear your walking  shoes! June 11-14\, 18-21\, 25-28. The Box Office opens at 5 pm to members of  MBGNA\, 5:30 pm for general admission at the Washington Heights entrance\, 1610  Washington Heights. All performances start at 6:30 pm\; please allow 10 minutes to  walk to the first act. Mobility assistance can be provided\, please call 734-647-7600.  Tickets are $10 Students and Children 12-18\, $15 MBGNA Members\, $18 General  Admission. Time: 6:30 pm to 9 pm
UID:2945-920823@events.umich.edu
URL:https://events.umich.edu/event/2945
CLASS:PUBLIC
STATUS:CONFIRMED
CATEGORIES:theater
LOCATION:Nichols Arboretum
CONTACT:
END:VEVENT
BEGIN:VEVENT
DTSTAMP:20090611T030001
DTSTART;TZID=America/Detroit:20090611T200000
SUMMARY:Other:Dancing at 100:  Ann Arbor Dance Works
DESCRIPTION:An evening of short chamber works by current dance faculty and guest artist alumni presented by Ann Arbor Dance Works\, the resident professional dance company of the University of Michigan Department of Dance.  The concert will feature alumna Dana Reitz performing a solo. Dana Reitz is a choreographer\, dancer and visual artist who has developed and produced projects since 1973. In 1996\, she and Mikhail Baryshnikov toured together with a program of solos\; in 1998\, she created Cantata for Two\, a duet for Baryshnikov and Tamasaburo Bando (Tokyo). Her work has been commissioned and produced by the Festival d'Automne in Paris\, the Hebbeltheater in Berlin\, the Brooklyn Academy of Music Next Wave Festival\, The Kitchen\, and PepsiCo Summerfare\, among many others. Reitz has toured extensively as a performer and teacher throughout North America\, Europe\, Australia\, Hong Kong and Japan\, and she is currently on the faculty of Bennington College. She is the recipient of two New York Dance and Performance (“Bessie”) Awards\, she is the Artistic Director of Field Papers\, Inc\, and her work has been supported in part by many foundations including the John Simon Guggenheim Memorial Foundation and The National Endowment for the Arts.Also featured will be alumna Leyya Tawil\, who will be creating a new work inspired by the archetypal characters of the Commedia dell'Arte\, particularly the play between wistful Pedrolino and the trickster Arlecchino. Tawil will collaborate with composer Topher Keyes for an original score for the work. Tawil has performed\, choreographed\, and taught nationally for the last thirteen years. This year marks her first international collaboration with Maqamat Theatre Dance in Beirut\, Lebanon. Tawil has held faculty positions at the University of Michigan Ann Arbor (Visiting Artist)\, the University of San Francisco and Sonoma State  University. She is currently the Middlebury College Artist-In-Residence in Dance. She received an MFA from Mills College and in 2008 was the recipient of an Emerging Artist Award from the UM School of Music\, Theatre & Dance.Several current UM dance faculty will be presenting works on the concert. Melissa Beck Matjias will be restaging her solo\, The Yellow Wallpaper. Amy Chavasse will be creating a new trio for the concert. Bill DeYoung\, and Peter Sparling will also be contributing short chamber works to the program.Tickets available at the League Ticket Office  734-764-2538  or at the door.
UID:1182-914723@events.umich.edu
URL:https://events.umich.edu/event/1182
CLASS:PUBLIC
STATUS:CONFIRMED
CATEGORIES:dance,music
LOCATION:Duderstadt Center - Video Studio
CONTACT:
END:VEVENT
BEGIN:VEVENT
DTSTAMP:20101111T175644
DTSTART;TZID=America/Detroit:20090611T200000
SUMMARY:Performance:Trinidad Tripoli Steel Band
DESCRIPTION:The Trinidad Tripoli Steel Band\, which took its name from the Marine Hymn\, goes  back to the very beginnings of tuned steel pan music in Port-of-Spain\, Trinidad in  the 1940s. (Musical steel pans were originally made from the tops of used oil  drums discarded by U.S. military forces.) Based in Ypsilanti and known all over the  world\, they've had an amazing career that has included opening for Liberace\,  performing for Queen Elizabeth\, and winning the \"bomb\" prize at Trinidad's national  Panorama steel band competition\, given for best arrangement of a European  classical composition for steel band. Maybe it's been a while since you've heard this  historic ensemble that we're lucky to have based here in southeastern Michigan-- come and ring in your summer with some genuine tropical sounds!
UID:843-912599@events.umich.edu
URL:https://events.umich.edu/event/843
CLASS:PUBLIC
STATUS:CONFIRMED
CATEGORIES:music
LOCATION:
CONTACT:
END:VEVENT
END:VCALENDAR