BEGIN:VCALENDAR
VERSION:2.0
PRODID:-//UM//UM*Events//EN
CALSCALE:GREGORIAN
BEGIN:VTIMEZONE
TZID:America/Detroit
TZURL:http://tzurl.org/zoneinfo/America/Detroit
X-LIC-LOCATION:America/Detroit
BEGIN:DAYLIGHT
TZOFFSETFROM:-0500
TZOFFSETTO:-0400
TZNAME:EDT
DTSTART:20070311T020000
RRULE:FREQ=YEARLY;BYMONTH=3;BYDAY=2SU
END:DAYLIGHT
BEGIN:STANDARD
TZOFFSETFROM:-0400
TZOFFSETTO:-0500
TZNAME:EST
DTSTART:20071104T020000
RRULE:FREQ=YEARLY;BYMONTH=11;BYDAY=1SU
END:STANDARD
END:VTIMEZONE
BEGIN:VEVENT
DTSTAMP:20101111T175850
DTSTART;TZID=America/Detroit:20090612T080000
DTEND;TZID=America/Detroit:20090612T200000
SUMMARY:Exhibition:Animals & People: Photo Collage Jewelry
DESCRIPTION:ANIMALS & PEOPLE: PHOTO COLLAGE JEWELRY Dawn Estrin & George Wilson Combining forces and a common interest in themes such as art\, romance and humor\, Dawn Estrin and George Wilson create a unique vision of what jewelry can be. Wilson is a master toolmaker\, and he makes special tools for the creation of the jewelry\, as well as inventing designs and building models for them. Estrin creates the imagery for the jewelry. Working in Photoshop\, she montages different images together to create a fantasy or story\, many inspired by humankind's relationship to the natural world. Their work\, known as Bijou Graphique\, is represented by over 300 galleries and museums in the U.S.\, Canada and Australia. They are currently working on a new project of jewelry for pets.
UID:3877-920885@events.umich.edu
URL:https://events.umich.edu/event/3877
CLASS:PUBLIC
STATUS:CONFIRMED
CATEGORIES:visual arts
LOCATION:University Hospitals - Main Lobby, Floor I
CONTACT:
END:VEVENT
BEGIN:VEVENT
DTSTAMP:20101111T175802
DTSTART;TZID=America/Detroit:20090612T080000
DTEND;TZID=America/Detroit:20090612T170000
SUMMARY:Exhibition:Art from an Eggshell
DESCRIPTION:ART FROM AN EGGSHELL Tina M. Boes With a vision and a high speed drill\, Tina M. Boes sets to work creating unique and inspiring heirloom quality art out of real eggshells. Since her start in 2001\, the art that she produces from her studio in her hometown of Muskegon\, MIchigan is now widely recognized and has been published worldwide. She has won many awards for her stunning detail and designs. Boes is founder and president of a non-profit international organization dedicated solely to the art and education of carving and sculpting real eggshells.
UID:3859-917942@events.umich.edu
URL:https://events.umich.edu/event/3859
CLASS:PUBLIC
STATUS:CONFIRMED
CATEGORIES:visual arts
LOCATION:Cancer Center - Main Lobby, Level B2
CONTACT:
END:VEVENT
BEGIN:VEVENT
DTSTAMP:20101111T175611
DTSTART;TZID=America/Detroit:20090612T080000
DTEND;TZID=America/Detroit:20090612T170000
SUMMARY:Exhibition:Cancer Healing Quilts: Fiber Artists @ Loose Ends
DESCRIPTION:CANCER HEALING QUILTS Fiber Artists at Loose Ends The Fiber Artists @ Loose Ends created the fine art quilts in this exhibit to provide education and a pleasing environment for patients\, visitors\, scientists and staff at the U-M Health System. Under the theme of plants and animals that are used in chemotherapy treatments\, each fiber artist brought her own individual style\, interpretation and experience to the idea of cancer healing. Each quilt has an accompanying artist statement and description of the subject matter of the pieces\, including scientific information about the natural subject's medicinal applications for cancer patients.
UID:3799-910027@events.umich.edu
URL:https://events.umich.edu/event/3799
CLASS:PUBLIC
STATUS:CONFIRMED
CATEGORIES:visual arts
LOCATION:Cancer Center - Level I
CONTACT:
END:VEVENT
BEGIN:VEVENT
DTSTAMP:20101111T175731
DTSTART;TZID=America/Detroit:20090612T080000
DTEND;TZID=America/Detroit:20090612T200000
SUMMARY:Exhibition:Gifts of Spring: Handblown Glass & Ceramics
DESCRIPTION:GIFTS OF SPRING: HANDBLOWN GLASS & CERAMICS Kimberley Emmert Inspired by nature and brought to life with earth and fire\, Kimberley Emmert's pieces in glass and ceramics celebrate spring. Her handblown glass pieces have a landscape\, almost Monet-like theme\, and the designs are often whimsical and floral. John Emmert\, Kimberley's husband\, assists her work in their studio in Linden\, MI. In addition to art making\, Kimberley teaches classes at home and also works in the studio at the Flint Institute of the Arts.
UID:3841-915661@events.umich.edu
URL:https://events.umich.edu/event/3841
CLASS:PUBLIC
STATUS:CONFIRMED
CATEGORIES:visual arts
LOCATION:Taubman Center - Taubman North Lobby, Floor I
CONTACT:
END:VEVENT
BEGIN:VEVENT
DTSTAMP:20101111T175649
DTSTART;TZID=America/Detroit:20090612T080000
DTEND;TZID=America/Detroit:20090612T200000
SUMMARY:Exhibition:Group Pottery Show: Village Potter's Guild
DESCRIPTION:GROUP POTTERY SHOW Village Potters Guild Founded in Plymouth\, Michigan in 1995\, the Village Potters Guild is a non-profit studio made up of ceramic artists who share the common bond of working with clay in a cooperative setting. Current members bring a rich diversity of style\, form and expression to the art of pottery and ceramics. Cooperative spirit and creativity are requirements for membership\, and members help fund and operate the guild through dues and participation in various guild functions\, meetings and activities. The Village Potters Guild offers classes\, workshops and community projects.
UID:3818-912830@events.umich.edu
URL:https://events.umich.edu/event/3818
CLASS:PUBLIC
STATUS:CONFIRMED
CATEGORIES:visual arts
LOCATION:Taubman Center - Taubman South Lobby, Floor I
CONTACT:
END:VEVENT
BEGIN:VEVENT
DTSTAMP:20101111T175653
DTSTART;TZID=America/Detroit:20090612T080000
DTEND;TZID=America/Detroit:20090612T200000
SUMMARY:Exhibition:Snip Shots: Cut Paper Narratives
DESCRIPTION:SNIP SHOTS: CUT PAPER NARRATIVES Mary Gaynier Mary Gaynier\, of Toledo\, Ohio\, began experimenting with cut paper in 2001\, and has since had over 50 exhibitions of her work. Often compared to the traditional German art form\, Scherrenschnitte – scissors cutting\, where paper is cut with scissors into intricate\, delicate folk art designs\, her work speaks in different ways from different distances. At a distance one might see a more abstract rhythmic pattern\, and then up close be surprised to find a scene of a bustling city or a child at play.
UID:3821-913125@events.umich.edu
URL:https://events.umich.edu/event/3821
CLASS:PUBLIC
STATUS:CONFIRMED
CATEGORIES:visual arts
LOCATION:University Hospitals - Main Corridor West, Floor 2
CONTACT:
END:VEVENT
BEGIN:VEVENT
DTSTAMP:20090511T163134
DTSTART;TZID=America/Detroit:20090612T080000
DTEND;TZID=America/Detroit:20090612T200000
SUMMARY:Exhibition:Suspended Moments: Panoramic Photographs
DESCRIPTION:SUSPENDED MOMENTS: PANORAMIC PHOTOGRAPHS Gary Mesa-Gaido\, Professor of Art at Morehead State University in Kentucky\, records suspended moments of migratory human activity within historical architectural places and spaces\, such as plazas\, train stations\, courtyards\, churches and museums. Utilizing digital technology\, Mesa-Gaido takes up to forty photographs in a 180 degree rotation at each location\, from which he selects an average of eighteen images to stitch together with Adobe Photoshop. The result is a singular panoramic photograph which captures the movement of individuals during a sequence of time.
UID:3803-911020@events.umich.edu
URL:https://events.umich.edu/event/3803
CLASS:PUBLIC
STATUS:CONFIRMED
CATEGORIES:visual arts
LOCATION:Taubman Center - Taubman North Lobby, Floor I
CONTACT:
END:VEVENT
BEGIN:VEVENT
DTSTAMP:20101111T175846
DTSTART;TZID=America/Detroit:20090612T080000
DTEND;TZID=America/Detroit:20090612T200000
SUMMARY:Exhibition:Symphony of Quilts: Michigan Quilt Artists Invitational
DESCRIPTION:SYMPHONY OF QUILTS Michigan Quilt Artists Invitational Welcome music lovers to the 11th annual exhibit of the Michigan Quilt Artists Invitational. Curators Mary Andrews of Grand Blanc and Marty Calhoun of Flint have invited fiber artists from around the state to create a small quilt exploring the facets of music. The quilts express different nuances of many varieties of music from classical to country to rock and roll.  In fiber art\, the exhibit celebrates the grandeur of music in nature as well as musical instruments\, composers\, singers and bands.
UID:3874-920665@events.umich.edu
URL:https://events.umich.edu/event/3874
CLASS:PUBLIC
STATUS:CONFIRMED
CATEGORIES:visual arts
LOCATION:Taubman Center - Taubman South Lobby, Floor I
CONTACT:
END:VEVENT
BEGIN:VEVENT
DTSTAMP:20101111T175756
DTSTART;TZID=America/Detroit:20090612T080000
DTEND;TZID=America/Detroit:20090612T200000
SUMMARY:Exhibition:Threads of Light: Fiber Art
DESCRIPTION:THREADS OF LIGHT: FIBER ART Laurie Wohl Internationally known fiber artist Laurie Wohl unweaves canvas to create symbolic shapes – wings\, trees\, prayer shawls\, veils\, windows\, scrolls and ladders. She embeds spiritual narratives in these delicate pieces through form\, color\, texture\, calligraphy and her own iconographic language\, imbuing the pieces with the spirit and mystery of ancient textile traditions. Her Unweavings ® fiber art have been on long-term loan to the United States Embassies in Beirut\, Vienna\, Tunis\, Cape Town\, and Pretoria. Wohl has studios in both New York City and southwestern Wisconsin.
UID:3854-917427@events.umich.edu
URL:https://events.umich.edu/event/3854
CLASS:PUBLIC
STATUS:CONFIRMED
CATEGORIES:visual arts
LOCATION:University Hospitals - Main Lobby, Floor I
CONTACT:
END:VEVENT
BEGIN:VEVENT
DTSTAMP:20090410T094342
DTSTART;TZID=America/Detroit:20090612T100000
DTEND;TZID=America/Detroit:20090612T170000
SUMMARY:Other:Exhibit
DESCRIPTION:He may be best known as the author of Sherlock Holmes stories but Sir Arthur Conan Doyle's own pursuits  reached beyond a fictional character. This exhibit features items representing the life\, work and interests of Sir  Doyle\, selected from over 2000 artifacts in the Parker Family  Arthur Conan Doyle Collection.
UID:617-911274@events.umich.edu
URL:https://events.umich.edu/event/617
CLASS:PUBLIC
STATUS:CONFIRMED
CATEGORIES:
LOCATION:Hatcher Graduate Library - Special Collections Library, 7th Floor
CONTACT:
END:VEVENT
BEGIN:VEVENT
DTSTAMP:20090612T030001
DTSTART;TZID=America/Detroit:20090612T150000
SUMMARY:Other:Dancing at 100:  Alumni Concert
DESCRIPTION:Featuring choreography and performances by the following alumni: Lisa Catrett Belrose\, Rachel McInstry\, Liz Riga\, Michael Phillips\, Mark Broomfield\, Susannah Windell\, Ayako Kato\, and Angela Gallo.Tickets available at the League Ticket Office  734-764-2538 or at the door.
UID:2363-919674@events.umich.edu
URL:https://events.umich.edu/event/2363
CLASS:PUBLIC
STATUS:CONFIRMED
CATEGORIES:dance,music
LOCATION:Duderstadt Center - Video Studio
CONTACT:
END:VEVENT
BEGIN:VEVENT
DTSTAMP:20101111T175849
DTSTART;TZID=America/Detroit:20090612T183000
SUMMARY:Performance:Shakespeare in the Arb:  Twelfth Night
DESCRIPTION:\"Twelfth Night\,\" one of Shakespeare's more well-known comedies\, is a story of love  and identity – mistaken love and mistaken identity. The play contains some of  Shakespeare's most well loved speeches and songs and lends itself well to the  natural setting of the Arb. Kate Mendeloff directs UM students and a host of  community members to make this mobile production a success. Wear your walking  shoes! June 11-14\, 18-21\, 25-28. The Box Office opens at 5 pm to members of  MBGNA\, 5:30 pm for general admission at the Washington Heights entrance\, 1610  Washington Heights. All performances start at 6:30 pm\; please allow 10 minutes to  walk to the first act. Mobility assistance can be provided\, please call 734-647-7600.  Tickets are $10 Students and Children 12-18\, $15 MBGNA Members\, $18 General  Admission. Time: 6:30 pm to 9 pm
UID:2945-920824@events.umich.edu
URL:https://events.umich.edu/event/2945
CLASS:PUBLIC
STATUS:CONFIRMED
CATEGORIES:theater
LOCATION:Nichols Arboretum
CONTACT:
END:VEVENT
BEGIN:VEVENT
DTSTAMP:20090612T030001
DTSTART;TZID=America/Detroit:20090612T200000
SUMMARY:Other:Dancing at 100:  Alumni Dance Concert
DESCRIPTION:Featuring choreography and performances by honored guests including the first Chair of the University of Michigan Dance Department\, Elizabeth Bergmann\, who now heads the Dance Program at Harvard University. Noted danced artist Christine Dakin will be a featured performer on the concert. Ms. Dakin\, a native of Ann Arbor and a UM alumna\, is known for her performance of Martha Graham’s roles in such works as Appalachian Spring\, Cave of the Heart\, Lamentation\, Clytemnestra\, and for roles Graham created for her in Rite of Spring and Phaedra’s Dream\, in which she was partnered by Rudolf Nureyev. Dakin  joined the Martha Graham Dance Company in 1976\; she was principal dancer\, Artistic Director leading the company to its rebirth\, and is now Artistic Director Laureate. Also featured on the concert will be an excerpt from a work by longtime UM dance faculty member and former Chair Gay Delanghe (1941-2006)\; her work Venice\, Milan\, Florence choreographed to J.S. Bach's Concerto in the Italian Style will be performed live by pianist Christian Matjias. Robin Wilson will restage and perform in the work\, joined by two UM dance alumni Corinne Imberski and Christina Sears-Etter. Alleluia\, set to music of the same name by American composer Randall Thompson (1899-1984)\, and choreographed by UM alumna and former UM faculty member Jeanne Parsons Bostian\, will be performed by UM alumna Christina Sears Etter. As a young performer Bostian danced the role of Laurie in Agnes DeMille’s Oklahoma on Broadway. She was also partnered by modern dance great Ted Shawn in his choreography in performances at Jacob’s Pillow. Other choreography and performances by alumni will be featured on the concert. Those alumni include Jodi Allen\, Emily Berry\, Maureen Janson Heintz\, Lizzie Leopold\, Melissa Bloch and Greg Patterson.Tickets available at the League Ticket Office  734-764-2538  or at the door.
UID:526-911741@events.umich.edu
URL:https://events.umich.edu/event/526
CLASS:PUBLIC
STATUS:CONFIRMED
CATEGORIES:dance,music
LOCATION:Dance Building - Betty Pease Studio Theatre
CONTACT:
END:VEVENT
BEGIN:VEVENT
DTSTAMP:20101111T175725
DTSTART;TZID=America/Detroit:20090612T200000
SUMMARY:Performance:Ditty Bops
DESCRIPTION:The Ditty Bops are the Los Angeles duo of Amanda Barnett and Abby DeWald. They  sing harmonies\, accompanying themselves with mandolin\, guitar\, and dulcimer  (and sometimes a slide whistle or what have you)\, and their music draws on folk\,  ragtime\, psychedelic pop\, early jazz\, and Western swing. But the real fun begins  with the theatrical and interactive side to their shows\, with everything from puppets  and skits to onstage drawings to an unending variety of costumes--gangster's moll\,  Lone Ranger\, prom dress\, superhero\, or whatever catches their attention at the  local costume shop. Their show is never the same twice! Or even from moment to  moment\, for these women do the quickest costume changes in the business. They  have appeared twice on \"A Prairie Home Companion\" and been heard six times on  the soundtrack to \"Grey's Anatomy.\" The Ditty Bops' latest album\, \"Summer Rains\,\"  earned a Grammy nomination for Best Packaging.
UID:1507-915260@events.umich.edu
URL:https://events.umich.edu/event/1507
CLASS:PUBLIC
STATUS:CONFIRMED
CATEGORIES:music
LOCATION:
CONTACT:
END:VEVENT
END:VCALENDAR