BEGIN:VCALENDAR
VERSION:2.0
PRODID:-//UM//UM*Events//EN
CALSCALE:GREGORIAN
BEGIN:VTIMEZONE
TZID:America/Detroit
TZURL:http://tzurl.org/zoneinfo/America/Detroit
X-LIC-LOCATION:America/Detroit
BEGIN:DAYLIGHT
TZOFFSETFROM:-0500
TZOFFSETTO:-0400
TZNAME:EDT
DTSTART:20070311T020000
RRULE:FREQ=YEARLY;BYMONTH=3;BYDAY=2SU
END:DAYLIGHT
BEGIN:STANDARD
TZOFFSETFROM:-0400
TZOFFSETTO:-0500
TZNAME:EST
DTSTART:20071104T020000
RRULE:FREQ=YEARLY;BYMONTH=11;BYDAY=1SU
END:STANDARD
END:VTIMEZONE
BEGIN:VEVENT
DTSTAMP:20101111T175850
DTSTART;TZID=America/Detroit:20090613T080000
DTEND;TZID=America/Detroit:20090613T200000
SUMMARY:Exhibition:Animals & People: Photo Collage Jewelry
DESCRIPTION:ANIMALS & PEOPLE: PHOTO COLLAGE JEWELRY Dawn Estrin & George Wilson Combining forces and a common interest in themes such as art\, romance and humor\, Dawn Estrin and George Wilson create a unique vision of what jewelry can be. Wilson is a master toolmaker\, and he makes special tools for the creation of the jewelry\, as well as inventing designs and building models for them. Estrin creates the imagery for the jewelry. Working in Photoshop\, she montages different images together to create a fantasy or story\, many inspired by humankind's relationship to the natural world. Their work\, known as Bijou Graphique\, is represented by over 300 galleries and museums in the U.S.\, Canada and Australia. They are currently working on a new project of jewelry for pets.
UID:3877-920886@events.umich.edu
URL:https://events.umich.edu/event/3877
CLASS:PUBLIC
STATUS:CONFIRMED
CATEGORIES:visual arts
LOCATION:University Hospitals - Main Lobby, Floor I
CONTACT:
END:VEVENT
BEGIN:VEVENT
DTSTAMP:20101111T175731
DTSTART;TZID=America/Detroit:20090613T080000
DTEND;TZID=America/Detroit:20090613T200000
SUMMARY:Exhibition:Gifts of Spring: Handblown Glass & Ceramics
DESCRIPTION:GIFTS OF SPRING: HANDBLOWN GLASS & CERAMICS Kimberley Emmert Inspired by nature and brought to life with earth and fire\, Kimberley Emmert's pieces in glass and ceramics celebrate spring. Her handblown glass pieces have a landscape\, almost Monet-like theme\, and the designs are often whimsical and floral. John Emmert\, Kimberley's husband\, assists her work in their studio in Linden\, MI. In addition to art making\, Kimberley teaches classes at home and also works in the studio at the Flint Institute of the Arts.
UID:3841-915662@events.umich.edu
URL:https://events.umich.edu/event/3841
CLASS:PUBLIC
STATUS:CONFIRMED
CATEGORIES:visual arts
LOCATION:Taubman Center - Taubman North Lobby, Floor I
CONTACT:
END:VEVENT
BEGIN:VEVENT
DTSTAMP:20101111T175649
DTSTART;TZID=America/Detroit:20090613T080000
DTEND;TZID=America/Detroit:20090613T200000
SUMMARY:Exhibition:Group Pottery Show: Village Potter's Guild
DESCRIPTION:GROUP POTTERY SHOW Village Potters Guild Founded in Plymouth\, Michigan in 1995\, the Village Potters Guild is a non-profit studio made up of ceramic artists who share the common bond of working with clay in a cooperative setting. Current members bring a rich diversity of style\, form and expression to the art of pottery and ceramics. Cooperative spirit and creativity are requirements for membership\, and members help fund and operate the guild through dues and participation in various guild functions\, meetings and activities. The Village Potters Guild offers classes\, workshops and community projects.
UID:3818-912831@events.umich.edu
URL:https://events.umich.edu/event/3818
CLASS:PUBLIC
STATUS:CONFIRMED
CATEGORIES:visual arts
LOCATION:Taubman Center - Taubman South Lobby, Floor I
CONTACT:
END:VEVENT
BEGIN:VEVENT
DTSTAMP:20101111T175653
DTSTART;TZID=America/Detroit:20090613T080000
DTEND;TZID=America/Detroit:20090613T200000
SUMMARY:Exhibition:Snip Shots: Cut Paper Narratives
DESCRIPTION:SNIP SHOTS: CUT PAPER NARRATIVES Mary Gaynier Mary Gaynier\, of Toledo\, Ohio\, began experimenting with cut paper in 2001\, and has since had over 50 exhibitions of her work. Often compared to the traditional German art form\, Scherrenschnitte – scissors cutting\, where paper is cut with scissors into intricate\, delicate folk art designs\, her work speaks in different ways from different distances. At a distance one might see a more abstract rhythmic pattern\, and then up close be surprised to find a scene of a bustling city or a child at play.
UID:3821-913126@events.umich.edu
URL:https://events.umich.edu/event/3821
CLASS:PUBLIC
STATUS:CONFIRMED
CATEGORIES:visual arts
LOCATION:University Hospitals - Main Corridor West, Floor 2
CONTACT:
END:VEVENT
BEGIN:VEVENT
DTSTAMP:20090511T163134
DTSTART;TZID=America/Detroit:20090613T080000
DTEND;TZID=America/Detroit:20090613T200000
SUMMARY:Exhibition:Suspended Moments: Panoramic Photographs
DESCRIPTION:SUSPENDED MOMENTS: PANORAMIC PHOTOGRAPHS Gary Mesa-Gaido\, Professor of Art at Morehead State University in Kentucky\, records suspended moments of migratory human activity within historical architectural places and spaces\, such as plazas\, train stations\, courtyards\, churches and museums. Utilizing digital technology\, Mesa-Gaido takes up to forty photographs in a 180 degree rotation at each location\, from which he selects an average of eighteen images to stitch together with Adobe Photoshop. The result is a singular panoramic photograph which captures the movement of individuals during a sequence of time.
UID:3803-911021@events.umich.edu
URL:https://events.umich.edu/event/3803
CLASS:PUBLIC
STATUS:CONFIRMED
CATEGORIES:visual arts
LOCATION:Taubman Center - Taubman North Lobby, Floor I
CONTACT:
END:VEVENT
BEGIN:VEVENT
DTSTAMP:20101111T175846
DTSTART;TZID=America/Detroit:20090613T080000
DTEND;TZID=America/Detroit:20090613T200000
SUMMARY:Exhibition:Symphony of Quilts: Michigan Quilt Artists Invitational
DESCRIPTION:SYMPHONY OF QUILTS Michigan Quilt Artists Invitational Welcome music lovers to the 11th annual exhibit of the Michigan Quilt Artists Invitational. Curators Mary Andrews of Grand Blanc and Marty Calhoun of Flint have invited fiber artists from around the state to create a small quilt exploring the facets of music. The quilts express different nuances of many varieties of music from classical to country to rock and roll.  In fiber art\, the exhibit celebrates the grandeur of music in nature as well as musical instruments\, composers\, singers and bands.
UID:3874-920666@events.umich.edu
URL:https://events.umich.edu/event/3874
CLASS:PUBLIC
STATUS:CONFIRMED
CATEGORIES:visual arts
LOCATION:Taubman Center - Taubman South Lobby, Floor I
CONTACT:
END:VEVENT
BEGIN:VEVENT
DTSTAMP:20101111T175756
DTSTART;TZID=America/Detroit:20090613T080000
DTEND;TZID=America/Detroit:20090613T200000
SUMMARY:Exhibition:Threads of Light: Fiber Art
DESCRIPTION:THREADS OF LIGHT: FIBER ART Laurie Wohl Internationally known fiber artist Laurie Wohl unweaves canvas to create symbolic shapes – wings\, trees\, prayer shawls\, veils\, windows\, scrolls and ladders. She embeds spiritual narratives in these delicate pieces through form\, color\, texture\, calligraphy and her own iconographic language\, imbuing the pieces with the spirit and mystery of ancient textile traditions. Her Unweavings ® fiber art have been on long-term loan to the United States Embassies in Beirut\, Vienna\, Tunis\, Cape Town\, and Pretoria. Wohl has studios in both New York City and southwestern Wisconsin.
UID:3854-917428@events.umich.edu
URL:https://events.umich.edu/event/3854
CLASS:PUBLIC
STATUS:CONFIRMED
CATEGORIES:visual arts
LOCATION:University Hospitals - Main Lobby, Floor I
CONTACT:
END:VEVENT
BEGIN:VEVENT
DTSTAMP:20090613T030001
DTSTART;TZID=America/Detroit:20090613T100000
SUMMARY:Other:Dancing at 100:  Legacy Lecture - Bridging Past\, Present and Future
DESCRIPTION:Mark Broomfield\, currently a Doctoral Candidate in Critical Dance Studies at UC Riverside\, where he has a prestigious Ford Foundation Predoctoral Fellowship\, will present his paper entitled Passing for Almost Straight: Critiquing the Performance of Masculinity of the Black Male Dancing Body. UM Professor of Dance Jessica Fogel will present By the Light of a Lantern: Dance’s First Steps at the University of Michigan. Professor Fogel has recently been conducting research on the history of dance at the UM and has spearheaded the Dancing at 100 centennial celebration.Selma Landen Odom will present The Dance Knowledge Expansion: Generations of Research and Teaching. Selma Landen Odom\, Professor Emerita at York University in Toronto\, was founding director of the first Canadian graduate program to offer the MA in Dance and PhD in Dance Studies. She holds a BA in English (Wellesley College)\, MA in Drama (Tufts University)\, and PhD in Dance Studies (University of Surrey). Her research focuses on teachers and transmission in dance and music. She has published hundreds of articles and reviews since the 1960s\, and she co-edited the anthology Canadian Dance: Visions and Stories  (2004).Tickets available at the League Ticket Office  734-764-2538
UID:628-912187@events.umich.edu
URL:https://events.umich.edu/event/628
CLASS:PUBLIC
STATUS:CONFIRMED
CATEGORIES:dance,music
LOCATION:Dance Building - Betty Pease Studio Theatre
CONTACT:
END:VEVENT
BEGIN:VEVENT
DTSTAMP:20090410T094342
DTSTART;TZID=America/Detroit:20090613T100000
DTEND;TZID=America/Detroit:20090613T170000
SUMMARY:Other:Exhibit
DESCRIPTION:He may be best known as the author of Sherlock Holmes stories but Sir Arthur Conan Doyle's own pursuits  reached beyond a fictional character. This exhibit features items representing the life\, work and interests of Sir  Doyle\, selected from over 2000 artifacts in the Parker Family  Arthur Conan Doyle Collection.
UID:617-911275@events.umich.edu
URL:https://events.umich.edu/event/617
CLASS:PUBLIC
STATUS:CONFIRMED
CATEGORIES:
LOCATION:Hatcher Graduate Library - Special Collections Library, 7th Floor
CONTACT:
END:VEVENT
BEGIN:VEVENT
DTSTAMP:20090613T030001
DTSTART;TZID=America/Detroit:20090613T143000
SUMMARY:Other:Dancing at 100:  Video Dance Screenings
DESCRIPTION:Continuous screenings of video dances created especially for the screen\, created by dance faculty and alumnae.
UID:1803-916646@events.umich.edu
URL:https://events.umich.edu/event/1803
CLASS:PUBLIC
STATUS:CONFIRMED
CATEGORIES:dance,music,film
LOCATION:Dance Building - Studio C
CONTACT:
END:VEVENT
BEGIN:VEVENT
DTSTAMP:20090613T030001
DTSTART;TZID=America/Detroit:20090613T183000
SUMMARY:Other:Dancing at 100:  Site-Specific Performances
DESCRIPTION:Tracing moments from the history of dance at UM across ten decades and into the future\, this unique site-specific dance performance gathers approximately 30 dancer/choreographers–alumni from several eras of dance at UM\, joined by current UM dance majors–to create a tapestry of movement vignettes recalling images of dance at UM past and present. Linked by three buildings–one demolished\, one standing and one imagined–the performance will travel from Central Campus to North Campus. The performance will begin in the Chemistry Building\, where the Barbour Gymnasium for Women stood from 1896 until it was torn down in 1977. This is where dance courses took place until the current Dance Building was erected in 1976 as an attachment to CCRB. Crossing North University\, the performance will continue over the bridge that spans Washtenaw Avenue\, and will echo some of the experiments of the 1960s and 1970s. An improvisational band of four live musicians will be directed by Aaron Gold. En route to the current Dance Building\, the audience will pause to see a scene taking place below on Palmer Field\, where women students first presented the Lantern Night performances in the early 1900s. The performance will then move to the Dance Building at the base of N. University Court\, where they will see a variety of scenes of dance. Audience members will next board buses taking them to North Campus where the performance will conclude with a dance amidst the trees\, and with a passing of the torch from one generation to the next. Evoking the Lantern Night performances from the earliest era of dance on campus\, the performers will link the legacy of the past to a new future for dance on North Campus.UM Professor of dance Jessica Fogel\, who will also be choreographing several scenes within the work\, will direct the performance. The performance will feature choreography and performances by the following alumni\, all living locally and nearby: Aimee Anderson\, Noonie Anderson\, Alana Barter\, Jeanette Fischer\, Carol Halsted\, Holly Hobbs\, Corinne Imberski\, Sarah Martens\, Anna McGarry\, Michelle Millman\, Barbara Neri\, Linda Perry\, Eva Powers\, Erika Stowall\, Beverly Robinson\, and Jarel Waters.Tickets available at the League Ticket Office  734-764-2538 or at the door.
UID:1708-916516@events.umich.edu
URL:https://events.umich.edu/event/1708
CLASS:PUBLIC
STATUS:CONFIRMED
CATEGORIES:music,dance
LOCATION:
CONTACT:
END:VEVENT
BEGIN:VEVENT
DTSTAMP:20101111T175849
DTSTART;TZID=America/Detroit:20090613T183000
SUMMARY:Performance:Shakespeare in the Arb:  Twelfth Night
DESCRIPTION:\"Twelfth Night\,\" one of Shakespeare's more well-known comedies\, is a story of love  and identity – mistaken love and mistaken identity. The play contains some of  Shakespeare's most well loved speeches and songs and lends itself well to the  natural setting of the Arb. Kate Mendeloff directs UM students and a host of  community members to make this mobile production a success. Wear your walking  shoes! June 11-14\, 18-21\, 25-28. The Box Office opens at 5 pm to members of  MBGNA\, 5:30 pm for general admission at the Washington Heights entrance\, 1610  Washington Heights. All performances start at 6:30 pm\; please allow 10 minutes to  walk to the first act. Mobility assistance can be provided\, please call 734-647-7600.  Tickets are $10 Students and Children 12-18\, $15 MBGNA Members\, $18 General  Admission. Time: 6:30 pm to 9 pm
UID:2945-920825@events.umich.edu
URL:https://events.umich.edu/event/2945
CLASS:PUBLIC
STATUS:CONFIRMED
CATEGORIES:theater
LOCATION:Nichols Arboretum
CONTACT:
END:VEVENT
BEGIN:VEVENT
DTSTAMP:20090613T030001
DTSTART;TZID=America/Detroit:20090613T203000
SUMMARY:Other:Dancing at 100:  Post-Performance Reception
DESCRIPTION:Following the site-specific performance (see June 13\, 6:30 p.m. listing) at approximately 8:30 PM\, there will be an afterglow reception for audience members. Tickets for the Afterglow Reception  should be purchased by June 1 at the League Ticket Office  734-764-2538.
UID:2842-921313@events.umich.edu
URL:https://events.umich.edu/event/2842
CLASS:PUBLIC
STATUS:CONFIRMED
CATEGORIES:dance,music
LOCATION:Walgreen Drama Center -  
CONTACT:
END:VEVENT
END:VCALENDAR