BEGIN:VCALENDAR
VERSION:2.0
PRODID:-//UM//UM*Events//EN
CALSCALE:GREGORIAN
BEGIN:VTIMEZONE
TZID:America/Detroit
TZURL:http://tzurl.org/zoneinfo/America/Detroit
X-LIC-LOCATION:America/Detroit
BEGIN:DAYLIGHT
TZOFFSETFROM:-0500
TZOFFSETTO:-0400
TZNAME:EDT
DTSTART:20070311T020000
RRULE:FREQ=YEARLY;BYMONTH=3;BYDAY=2SU
END:DAYLIGHT
BEGIN:STANDARD
TZOFFSETFROM:-0400
TZOFFSETTO:-0500
TZNAME:EST
DTSTART:20071104T020000
RRULE:FREQ=YEARLY;BYMONTH=11;BYDAY=1SU
END:STANDARD
END:VTIMEZONE
BEGIN:VEVENT
DTSTAMP:20090410T094342
DTSTART;TZID=America/Detroit:20090619T100000
DTEND;TZID=America/Detroit:20090619T170000
SUMMARY:Other:Exhibit
DESCRIPTION:He may be best known as the author of Sherlock Holmes stories but Sir Arthur Conan Doyle's own pursuits  reached beyond a fictional character. This exhibit features items representing the life\, work and interests of Sir  Doyle\, selected from over 2000 artifacts in the Parker Family  Arthur Conan Doyle Collection.
UID:617-911178@events.umich.edu
URL:https://events.umich.edu/event/617
CLASS:PUBLIC
STATUS:CONFIRMED
CATEGORIES:
LOCATION:Hatcher Graduate Library - Special Collections Library, 7th Floor
CONTACT:
END:VEVENT
BEGIN:VEVENT
DTSTAMP:20101111T175849
DTSTART;TZID=America/Detroit:20090619T183000
SUMMARY:Performance:Shakespeare in the Arb:  Twelfth Night
DESCRIPTION:\"Twelfth Night\,\" one of Shakespeare's more well-known comedies\, is a story of love  and identity – mistaken love and mistaken identity. The play contains some of  Shakespeare's most well loved speeches and songs and lends itself well to the  natural setting of the Arb. Kate Mendeloff directs UM students and a host of  community members to make this mobile production a success. Wear your walking  shoes! June 11-14\, 18-21\, 25-28. The Box Office opens at 5 pm to members of  MBGNA\, 5:30 pm for general admission at the Washington Heights entrance\, 1610  Washington Heights. All performances start at 6:30 pm\; please allow 10 minutes to  walk to the first act. Mobility assistance can be provided\, please call 734-647-7600.  Tickets are $10 Students and Children 12-18\, $15 MBGNA Members\, $18 General  Admission. Time: 6:30 pm to 9 pm
UID:2945-920828@events.umich.edu
URL:https://events.umich.edu/event/2945
CLASS:PUBLIC
STATUS:CONFIRMED
CATEGORIES:theater
LOCATION:Nichols Arboretum
CONTACT:
END:VEVENT
BEGIN:VEVENT
DTSTAMP:20101111T175757
DTSTART;TZID=America/Detroit:20090619T200000
SUMMARY:Performance:Chuck Mead
DESCRIPTION:Chuck Mead was the co-founder of the three-time Grammy nominated BR5-49\, the  honky-tonk heroes that almost single-handedly lit and carried the blowtorch for the  mid-1990s alternative country explosion. He was the songwriting genius behind  such BR5-49 classics as \"Little Ramona's Gone Hillbilly Nuts\" (her punk rock records  are gathering dust)\, and he's been hailed as \"The Hillbilly Renaissance Man\" for his  subsequent successes as a songwriter\, performer\, producer and musical theater  director. Now Chuck emerges as a solo artist with the album \"Journeyman's  Wager.\" “I respect the term ”˜journeyman\,'” Chuck says\, “because that's I what  consider myself. I've been living by my wits musically for more than 20 years now\,  going from job to job and doing them all pretty well.\" The album is full of great  roots songs of all kinds\, and this show should be a real treat for anybody who's  spent time on country music's sharper edges.
UID:2207-917454@events.umich.edu
URL:https://events.umich.edu/event/2207
CLASS:PUBLIC
STATUS:CONFIRMED
CATEGORIES:music
LOCATION:
CONTACT:
END:VEVENT
END:VCALENDAR