BEGIN:VCALENDAR
VERSION:2.0
PRODID:-//UM//UM*Events//EN
CALSCALE:GREGORIAN
BEGIN:VTIMEZONE
TZID:America/Detroit
TZURL:http://tzurl.org/zoneinfo/America/Detroit
X-LIC-LOCATION:America/Detroit
BEGIN:DAYLIGHT
TZOFFSETFROM:-0500
TZOFFSETTO:-0400
TZNAME:EDT
DTSTART:20070311T020000
RRULE:FREQ=YEARLY;BYMONTH=3;BYDAY=2SU
END:DAYLIGHT
BEGIN:STANDARD
TZOFFSETFROM:-0400
TZOFFSETTO:-0500
TZNAME:EST
DTSTART:20071104T020000
RRULE:FREQ=YEARLY;BYMONTH=11;BYDAY=1SU
END:STANDARD
END:VTIMEZONE
BEGIN:VEVENT
DTSTAMP:20101111T175646
DTSTART;TZID=America/Detroit:20090620T093000
DTEND;TZID=America/Detroit:20090620T110000
SUMMARY:Other:Discovering and Living Your Calling
DESCRIPTION:Valerie Myers\, assistant professor in the School of Public Health and adjunct assistant professor at the Ross School\, will provide tools for structured reflection and action steps that will help participants discover and live their calling by linking their own faith to work.  \n\nOnline Registration is at execed.bus.umich.edu/execdev/includes/boostershots-2009.htm
UID:893-912681@events.umich.edu
URL:https://events.umich.edu/event/893
CLASS:PUBLIC
STATUS:CONFIRMED
CATEGORIES:
LOCATION:Ross School of Business - RO320
CONTACT:
END:VEVENT
BEGIN:VEVENT
DTSTAMP:20090410T094342
DTSTART;TZID=America/Detroit:20090620T100000
DTEND;TZID=America/Detroit:20090620T170000
SUMMARY:Other:Exhibit
DESCRIPTION:He may be best known as the author of Sherlock Holmes stories but Sir Arthur Conan Doyle's own pursuits  reached beyond a fictional character. This exhibit features items representing the life\, work and interests of Sir  Doyle\, selected from over 2000 artifacts in the Parker Family  Arthur Conan Doyle Collection.
UID:617-911179@events.umich.edu
URL:https://events.umich.edu/event/617
CLASS:PUBLIC
STATUS:CONFIRMED
CATEGORIES:
LOCATION:Hatcher Graduate Library - Special Collections Library, 7th Floor
CONTACT:
END:VEVENT
BEGIN:VEVENT
DTSTAMP:20101111T175849
DTSTART;TZID=America/Detroit:20090620T183000
SUMMARY:Performance:Shakespeare in the Arb:  Twelfth Night
DESCRIPTION:\"Twelfth Night\,\" one of Shakespeare's more well-known comedies\, is a story of love  and identity – mistaken love and mistaken identity. The play contains some of  Shakespeare's most well loved speeches and songs and lends itself well to the  natural setting of the Arb. Kate Mendeloff directs UM students and a host of  community members to make this mobile production a success. Wear your walking  shoes! June 11-14\, 18-21\, 25-28. The Box Office opens at 5 pm to members of  MBGNA\, 5:30 pm for general admission at the Washington Heights entrance\, 1610  Washington Heights. All performances start at 6:30 pm\; please allow 10 minutes to  walk to the first act. Mobility assistance can be provided\, please call 734-647-7600.  Tickets are $10 Students and Children 12-18\, $15 MBGNA Members\, $18 General  Admission. Time: 6:30 pm to 9 pm
UID:2945-920829@events.umich.edu
URL:https://events.umich.edu/event/2945
CLASS:PUBLIC
STATUS:CONFIRMED
CATEGORIES:theater
LOCATION:Nichols Arboretum
CONTACT:
END:VEVENT
BEGIN:VEVENT
DTSTAMP:20101111T175821
DTSTART;TZID=America/Detroit:20090620T200000
SUMMARY:Performance:Christine Lavin & Don White
DESCRIPTION:
UID:2489-919185@events.umich.edu
URL:https://events.umich.edu/event/2489
CLASS:PUBLIC
STATUS:CONFIRMED
CATEGORIES:music
LOCATION:
CONTACT:
END:VEVENT
END:VCALENDAR